BEGIN:VCALENDAR
VERSION:2.0
PRODID:-//Clube de Engenharia - ECPv6.15.16//NONSGML v1.0//EN
CALSCALE:GREGORIAN
METHOD:PUBLISH
X-WR-CALNAME:Clube de Engenharia
X-ORIGINAL-URL:https://portalclubedeengenharia.org.br
X-WR-CALDESC:Eventos para Clube de Engenharia
REFRESH-INTERVAL;VALUE=DURATION:PT1H
X-Robots-Tag:noindex
X-PUBLISHED-TTL:PT1H
BEGIN:VTIMEZONE
TZID:America/Sao_Paulo
BEGIN:STANDARD
TZOFFSETFROM:-0200
TZOFFSETTO:-0300
TZNAME:-03
DTSTART:20150222T020000
END:STANDARD
BEGIN:DAYLIGHT
TZOFFSETFROM:-0300
TZOFFSETTO:-0200
TZNAME:-02
DTSTART:20151018T030000
END:DAYLIGHT
BEGIN:STANDARD
TZOFFSETFROM:-0200
TZOFFSETTO:-0300
TZNAME:-03
DTSTART:20160221T020000
END:STANDARD
BEGIN:DAYLIGHT
TZOFFSETFROM:-0300
TZOFFSETTO:-0200
TZNAME:-02
DTSTART:20161016T030000
END:DAYLIGHT
BEGIN:STANDARD
TZOFFSETFROM:-0200
TZOFFSETTO:-0300
TZNAME:-03
DTSTART:20170219T020000
END:STANDARD
BEGIN:DAYLIGHT
TZOFFSETFROM:-0300
TZOFFSETTO:-0200
TZNAME:-02
DTSTART:20171015T030000
END:DAYLIGHT
END:VTIMEZONE
BEGIN:VEVENT
DTSTART;TZID=America/Sao_Paulo:20161211T193000
DTEND;TZID=America/Sao_Paulo:20161211T193000
DTSTAMP:20260425T233035
CREATED:20161209T231900Z
LAST-MODIFIED:20240712T152214Z
UID:26047-1481484600-1481484600@portalclubedeengenharia.org.br
SUMMARY:28ª Corrida dos Engenheiros - SEAERJ 2016
DESCRIPTION:Venha participar da Corrida da SEAERJ e Caminhada pelo Dia do Engenheiro no dia 11 de dezembro\, domingo\, às 07h30\, na Quinta da Boa Vista. \nDistribuição de medalhas de participação\, frutas\, massagem e sorteio de bicicletas. \nPromoção:Clube de Engenharia Sociedade dos Engenheiros e Arquitetos do Estado do Rio de Janeiro – SEAERJ
URL:https://portalclubedeengenharia.org.br/evento/28a-corrida-dos-engenheiros-seaerj-2016/
ATTACH;FMTTYPE=image/jpeg:https://portalclubedeengenharia.org.br/wp-content/uploads/2024/07/1481318761.jpg
END:VEVENT
END:VCALENDAR