BEGIN:VCALENDAR
VERSION:2.0
PRODID:-//Clube de Engenharia - ECPv6.15.16//NONSGML v1.0//EN
CALSCALE:GREGORIAN
METHOD:PUBLISH
X-WR-CALNAME:Clube de Engenharia
X-ORIGINAL-URL:https://portalclubedeengenharia.org.br
X-WR-CALDESC:Eventos para Clube de Engenharia
REFRESH-INTERVAL;VALUE=DURATION:PT1H
X-Robots-Tag:noindex
X-PUBLISHED-TTL:PT1H
BEGIN:VTIMEZONE
TZID:America/Sao_Paulo
BEGIN:STANDARD
TZOFFSETFROM:-0300
TZOFFSETTO:-0300
TZNAME:-03
DTSTART:20230101T000000
END:STANDARD
END:VTIMEZONE
BEGIN:VEVENT
DTSTART;TZID=America/Sao_Paulo:20241101T090000
DTEND;TZID=America/Sao_Paulo:20241101T140000
DTSTAMP:20260419T154718
CREATED:20241030T165823Z
LAST-MODIFIED:20241030T171433Z
UID:33803-1730451600-1730469600@portalclubedeengenharia.org.br
SUMMARY:72 anos da Escola de Engenharia da Universidade Federal Fluminense
DESCRIPTION:Nesta sexta-feira\, 01/11\, será realizada solenidade em comemoração aos 72 anos da Escola de Engenharia da Universidade Federal Fluminense\, prestando homenagens aos ex-diretores\, servidores\, estudantes e amigos da nossa unidade acadêmica. \nSobre o local Para assegurar melhor comodidade\, segurança e acesso a todos\, a cerimônia será realizada na Sala Nelson Pereira dos Santos\, no Reserva Cultural de Niterói. \nO espaço está localizado ao lado do campus Gragoatá. \nEndereço: Av. Visconde do Rio Branco\, 880\, São Domingos\, Niterói – RJ \nProgramação \n9h40 às 10h10\nRecepção e credenciamento \n10h10 às 10h30\nAbertura da Solenidade \n10h30 às 10h50\nHomenagem aos ex-Diretores da Escola de Engenharia \n10h50 às 11h10\nHomenagem aos Decanos da Escola de Engenharia \n11h10 às 11h30\nHomenagem aos estudantes representantes de Equipes de Competição e Programas de Tutoria \n11h30 às 12h30\nHomenagens especiais \n12h30 às 13h\nHomenagem aos Amigos da Escola de Engenharia \n13h às 13h20\nEncerramento
URL:https://portalclubedeengenharia.org.br/evento/72-anos-da-escola-de-engenharia-da-universidade-federal-fluminense/
LOCATION:Reserva Cultural de Niterói
CATEGORIES:Externo,Eventos
ATTACH;FMTTYPE=image/jpeg:https://portalclubedeengenharia.org.br/wp-content/uploads/2024/10/6842b412-2734-4720-a36a-2d8b794644c2-6842b412-2734-4720-a36a-2d8b794644c2.jpeg
END:VEVENT
END:VCALENDAR