BEGIN:VCALENDAR
VERSION:2.0
PRODID:-//Clube de Engenharia - ECPv6.15.16//NONSGML v1.0//EN
CALSCALE:GREGORIAN
METHOD:PUBLISH
X-WR-CALNAME:Clube de Engenharia
X-ORIGINAL-URL:https://portalclubedeengenharia.org.br
X-WR-CALDESC:Eventos para Clube de Engenharia
REFRESH-INTERVAL;VALUE=DURATION:PT1H
X-Robots-Tag:noindex
X-PUBLISHED-TTL:PT1H
BEGIN:VTIMEZONE
TZID:America/Sao_Paulo
BEGIN:STANDARD
TZOFFSETFROM:-0200
TZOFFSETTO:-0300
TZNAME:-03
DTSTART:20110220T020000
END:STANDARD
BEGIN:DAYLIGHT
TZOFFSETFROM:-0300
TZOFFSETTO:-0200
TZNAME:-02
DTSTART:20111016T030000
END:DAYLIGHT
BEGIN:STANDARD
TZOFFSETFROM:-0200
TZOFFSETTO:-0300
TZNAME:-03
DTSTART:20120226T020000
END:STANDARD
BEGIN:DAYLIGHT
TZOFFSETFROM:-0300
TZOFFSETTO:-0200
TZNAME:-02
DTSTART:20121021T030000
END:DAYLIGHT
BEGIN:STANDARD
TZOFFSETFROM:-0200
TZOFFSETTO:-0300
TZNAME:-03
DTSTART:20130217T020000
END:STANDARD
BEGIN:DAYLIGHT
TZOFFSETFROM:-0300
TZOFFSETTO:-0200
TZNAME:-02
DTSTART:20131020T030000
END:DAYLIGHT
END:VTIMEZONE
BEGIN:VEVENT
DTSTART;TZID=America/Sao_Paulo:20121107T170000
DTEND;TZID=America/Sao_Paulo:20121108T220000
DTSTAMP:20260421T080056
CREATED:20121029T220500Z
LAST-MODIFIED:20240712T151809Z
UID:25154-1352307600-1352412000@portalclubedeengenharia.org.br
SUMMARY:A Engenharia do século XXI e o seu papel no desenvolvimento do país
DESCRIPTION:Dia 07 e 08/11/12 – 17h às 22h – 25º andar \n“A ENGENHARIA DO SÉCULO XXI E O SEU PAPEL NO DESENVOLVIMENTO DO PAÍS” \nJornada com debates\, seminários\, mesas redondas e painéis sobre a engenharia no Brasil. \nPromoção: DAT/DPE/DFE \nApoio: ESTACIO PARTICIPAÇÕES SA / CONTAE
URL:https://portalclubedeengenharia.org.br/evento/a-engenharia-do-seculo-xxi-e-o-seu-papel-no-desenvolvimento-do-pais/
ATTACH;FMTTYPE=image/jpeg:https://portalclubedeengenharia.org.br/wp-content/uploads/2024/07/1351543230.jpg
END:VEVENT
END:VCALENDAR