BEGIN:VCALENDAR
VERSION:2.0
PRODID:-//Clube de Engenharia - ECPv6.15.16//NONSGML v1.0//EN
CALSCALE:GREGORIAN
METHOD:PUBLISH
X-WR-CALNAME:Clube de Engenharia
X-ORIGINAL-URL:https://portalclubedeengenharia.org.br
X-WR-CALDESC:Eventos para Clube de Engenharia
REFRESH-INTERVAL;VALUE=DURATION:PT1H
X-Robots-Tag:noindex
X-PUBLISHED-TTL:PT1H
BEGIN:VTIMEZONE
TZID:America/Sao_Paulo
BEGIN:STANDARD
TZOFFSETFROM:-0200
TZOFFSETTO:-0300
TZNAME:-03
DTSTART:20150222T020000
END:STANDARD
BEGIN:DAYLIGHT
TZOFFSETFROM:-0300
TZOFFSETTO:-0200
TZNAME:-02
DTSTART:20151018T030000
END:DAYLIGHT
BEGIN:STANDARD
TZOFFSETFROM:-0200
TZOFFSETTO:-0300
TZNAME:-03
DTSTART:20160221T020000
END:STANDARD
BEGIN:DAYLIGHT
TZOFFSETFROM:-0300
TZOFFSETTO:-0200
TZNAME:-02
DTSTART:20161016T030000
END:DAYLIGHT
BEGIN:STANDARD
TZOFFSETFROM:-0200
TZOFFSETTO:-0300
TZNAME:-03
DTSTART:20170219T020000
END:STANDARD
BEGIN:DAYLIGHT
TZOFFSETFROM:-0300
TZOFFSETTO:-0200
TZNAME:-02
DTSTART:20171015T030000
END:DAYLIGHT
END:VTIMEZONE
BEGIN:VEVENT
DTSTART;TZID=America/Sao_Paulo:20160412T180000
DTEND;TZID=America/Sao_Paulo:20160412T203000
DTSTAMP:20260424T174212
CREATED:20160323T210000Z
LAST-MODIFIED:20240712T152121Z
UID:25825-1460484000-1460493000@portalclubedeengenharia.org.br
SUMMARY:A importância da Geotecnia no projeto executivo da expansão do aterro sanitário no Rio de Janeiro
DESCRIPTION:A palestra enfocará aspectos geotécnicos da implantação de novos aterros da Central de Tratamento de Resíduos Nova Iguaçu (CTR-NI)\, pertencente à Foxx Haztec\, a qual está localizada no Município de Nova Iguaçu\, RJ. Por estar inserida ao sul da Serra do Tinguá e dentro dos domínios do Maciço da Serra dos Órgãos\, o terreno é bastante escarpado\, fazendo com que suas unidades de aterragem tenham que ser implantadas em vales encaixados\, dentro de uma mesma cadeia montanhosa. Atualmente\, a CTR-NI é constituída por três sub-aterros e recebe cerca de 120.000t de resíduos domiciliares por mês. Visando ampliar a sua capacidade de recebimento e\, consequentemente\, o período de disposição e tratamento de resíduos dos municípios atendidos\, foram escolhidas duas novas áreas nas porções oeste-sudoeste do terreno\, denominadas de Vale 5 e Vale 6. Foi realizado um extenso mapeamento geológico-geotécnico e hidrológico na região\, serviços de levantamento planialtimétrico\, sondagens\, ensaios de campo e amostragens de solo\, bem como ensaios geotécnicos em laboratório. Os resultados obtidos embasaram os projetos executivos de implantação dos novos aterros\, objetos da palestra. \nPalestrante: \nEngenheiro Civil Álvaro Viana\, M.Sc. \nDiretor Executivo da ALTA Geotecnia \nPromoção: \nDiretoria de Atividades Técnicas – DAT \nDivisão Técnica de Geotecnia – DTG \nApoio: Divisão Técnica de Engenharia do Ambiente – DEA \nAssociação Brasileira de Mecânica dos Solos e Engenharia Geotécnica – ABMS – Núcleo Rio \nAssociação Brasileira de Geologia de Engenharia e Ambiental – ABGE – Núcleo Rio \nServiço: \n12 de Abril de 2016\, 3ª feira\,  18:00 h. \nAv. Rio Branco\, 124 – 22º andar – Centro – RJ \nClique na imagem para ampliar: \n \n 
URL:https://portalclubedeengenharia.org.br/evento/a-importancia-da-geotecnia-no-projeto-executivo-da-expansao-do-aterro-sanitario-no-rio-de-janeiro/
ATTACH;FMTTYPE=image/jpeg:https://portalclubedeengenharia.org.br/wp-content/uploads/2024/07/1458756462.jpg
END:VEVENT
END:VCALENDAR