BEGIN:VCALENDAR
VERSION:2.0
PRODID:-//Clube de Engenharia - ECPv6.15.16//NONSGML v1.0//EN
CALSCALE:GREGORIAN
METHOD:PUBLISH
X-WR-CALNAME:Clube de Engenharia
X-ORIGINAL-URL:https://portalclubedeengenharia.org.br
X-WR-CALDESC:Eventos para Clube de Engenharia
REFRESH-INTERVAL;VALUE=DURATION:PT1H
X-Robots-Tag:noindex
X-PUBLISHED-TTL:PT1H
BEGIN:VTIMEZONE
TZID:America/Sao_Paulo
BEGIN:STANDARD
TZOFFSETFROM:-0200
TZOFFSETTO:-0300
TZNAME:-03
DTSTART:20160221T020000
END:STANDARD
BEGIN:DAYLIGHT
TZOFFSETFROM:-0300
TZOFFSETTO:-0200
TZNAME:-02
DTSTART:20161016T030000
END:DAYLIGHT
BEGIN:STANDARD
TZOFFSETFROM:-0200
TZOFFSETTO:-0300
TZNAME:-03
DTSTART:20170219T020000
END:STANDARD
BEGIN:DAYLIGHT
TZOFFSETFROM:-0300
TZOFFSETTO:-0200
TZNAME:-02
DTSTART:20171015T030000
END:DAYLIGHT
BEGIN:STANDARD
TZOFFSETFROM:-0200
TZOFFSETTO:-0300
TZNAME:-03
DTSTART:20180218T020000
END:STANDARD
BEGIN:DAYLIGHT
TZOFFSETFROM:-0300
TZOFFSETTO:-0200
TZNAME:-02
DTSTART:20181104T030000
END:DAYLIGHT
END:VTIMEZONE
BEGIN:VEVENT
DTSTART;TZID=America/Sao_Paulo:20170406T180000
DTEND;TZID=America/Sao_Paulo:20170406T200000
DTSTAMP:20260420T111822
CREATED:20170404T232900Z
LAST-MODIFIED:20240712T152232Z
UID:26145-1491501600-1491508800@portalclubedeengenharia.org.br
SUMMARY:A importância dos primeiros socorros em uma situação de emergência
DESCRIPTION:Palestrante:Carlos Eduardo M. da RochaMembro da Associação Brasileira para Prevenção de Acidentes (ABPA) \nPromoção:Diretoria de Atividades Técnicas (DAT)Divisão Técnica de Engenharia de Segurança (DSG) \nServiço:Dia 06/04 às 18h21º andar do Clube de Engenharia – Mini auditórioAv. Rio Branco\, 124 – Metrô Estação Carioca
URL:https://portalclubedeengenharia.org.br/evento/a-importancia-dos-primeiros-socorros-em-uma-situacao-de-emergencia/
ATTACH;FMTTYPE=image/jpeg:https://portalclubedeengenharia.org.br/wp-content/uploads/2024/07/1491502206.jpg
END:VEVENT
END:VCALENDAR