BEGIN:VCALENDAR
VERSION:2.0
PRODID:-//Clube de Engenharia - ECPv6.15.16//NONSGML v1.0//EN
CALSCALE:GREGORIAN
METHOD:PUBLISH
X-WR-CALNAME:Clube de Engenharia
X-ORIGINAL-URL:https://portalclubedeengenharia.org.br
X-WR-CALDESC:Eventos para Clube de Engenharia
REFRESH-INTERVAL;VALUE=DURATION:PT1H
X-Robots-Tag:noindex
X-PUBLISHED-TTL:PT1H
BEGIN:VTIMEZONE
TZID:America/Sao_Paulo
BEGIN:STANDARD
TZOFFSETFROM:-0200
TZOFFSETTO:-0300
TZNAME:-03
DTSTART:20160221T020000
END:STANDARD
BEGIN:DAYLIGHT
TZOFFSETFROM:-0300
TZOFFSETTO:-0200
TZNAME:-02
DTSTART:20161016T030000
END:DAYLIGHT
BEGIN:STANDARD
TZOFFSETFROM:-0200
TZOFFSETTO:-0300
TZNAME:-03
DTSTART:20170219T020000
END:STANDARD
BEGIN:DAYLIGHT
TZOFFSETFROM:-0300
TZOFFSETTO:-0200
TZNAME:-02
DTSTART:20171015T030000
END:DAYLIGHT
BEGIN:STANDARD
TZOFFSETFROM:-0200
TZOFFSETTO:-0300
TZNAME:-03
DTSTART:20180218T020000
END:STANDARD
BEGIN:DAYLIGHT
TZOFFSETFROM:-0300
TZOFFSETTO:-0200
TZNAME:-02
DTSTART:20181104T030000
END:DAYLIGHT
END:VTIMEZONE
BEGIN:VEVENT
DTSTART;TZID=America/Sao_Paulo:20170427T140000
DTEND;TZID=America/Sao_Paulo:20170427T160000
DTSTAMP:20260420T022153
CREATED:20170425T214700Z
LAST-MODIFIED:20240712T152236Z
UID:26161-1493301600-1493308800@portalclubedeengenharia.org.br
SUMMARY:Ações para a revitalização do setor mineral brasileiro
DESCRIPTION:Palestrante:Engenheiro Vicente Lôbo – Secretário na Secretaria de Geologia\, Mineração e Transformação Mineral (SGM)\, Ministério de Minas e Energia (MME) \nPromoção:Centro de Tecnologia Mineral (CETEM) \nServiço:Dia 27/04 às 14hSede CETEM-RJ\, auditório Roberto Villas-BôasAv. Pedro Calmon\, 900 – Cidade Universitária\, Rio de Janeiro – RJConfirmar presença pelo e-mail: divulgacao@cetem.gov.br
URL:https://portalclubedeengenharia.org.br/evento/acoes-para-a-revitalizacao-do-setor-mineral-brasileiro/
ATTACH;FMTTYPE=image/jpeg:https://portalclubedeengenharia.org.br/wp-content/uploads/2024/07/1493146145.jpg
END:VEVENT
END:VCALENDAR