BEGIN:VCALENDAR
VERSION:2.0
PRODID:-//Clube de Engenharia - ECPv6.15.16//NONSGML v1.0//EN
CALSCALE:GREGORIAN
METHOD:PUBLISH
X-WR-CALNAME:Clube de Engenharia
X-ORIGINAL-URL:https://portalclubedeengenharia.org.br
X-WR-CALDESC:Eventos para Clube de Engenharia
REFRESH-INTERVAL;VALUE=DURATION:PT1H
X-Robots-Tag:noindex
X-PUBLISHED-TTL:PT1H
BEGIN:VTIMEZONE
TZID:America/Sao_Paulo
BEGIN:STANDARD
TZOFFSETFROM:-0200
TZOFFSETTO:-0300
TZNAME:-03
DTSTART:20150222T020000
END:STANDARD
BEGIN:DAYLIGHT
TZOFFSETFROM:-0300
TZOFFSETTO:-0200
TZNAME:-02
DTSTART:20151018T030000
END:DAYLIGHT
BEGIN:STANDARD
TZOFFSETFROM:-0200
TZOFFSETTO:-0300
TZNAME:-03
DTSTART:20160221T020000
END:STANDARD
BEGIN:DAYLIGHT
TZOFFSETFROM:-0300
TZOFFSETTO:-0200
TZNAME:-02
DTSTART:20161016T030000
END:DAYLIGHT
BEGIN:STANDARD
TZOFFSETFROM:-0200
TZOFFSETTO:-0300
TZNAME:-03
DTSTART:20170219T020000
END:STANDARD
BEGIN:DAYLIGHT
TZOFFSETFROM:-0300
TZOFFSETTO:-0200
TZNAME:-02
DTSTART:20171015T030000
END:DAYLIGHT
END:VTIMEZONE
BEGIN:VEVENT
DTSTART;TZID=America/Sao_Paulo:20160401T180000
DTEND;TZID=America/Sao_Paulo:20160401T203000
DTSTAMP:20260422T163953
CREATED:20160309T002900Z
LAST-MODIFIED:20240712T152118Z
UID:25813-1459533600-1459542600@portalclubedeengenharia.org.br
SUMMARY:[ADIADO] VLT - É a solução para a mobilidade urbana?
DESCRIPTION:COMUNICADO IMPORTANTEA Palestra VLT – É a Solução para a Mobilidade Urbana? foi adiada.Nova data será informada em breve. \n \nPalestrante: Rafael Picciani – Secretário Municipal de Transportes (Aguardando a confirmação do Secretário) \nPromoção: Diretoria de Atividades Técnicas – DAT/Divisão Técnica de Transporte e Logística – DTRL \nApoio: Fórum de Mobilidade Urbana \nServiço: \n22º andar do Clube de Engenharia.  \nAv. Rio Branco\, 124 – Metrô Estação Carioca. \nEntrada franca. \n \n 
URL:https://portalclubedeengenharia.org.br/evento/adiado-vlt-e-a-solucao-para-a-mobilidade-urbana/
END:VEVENT
END:VCALENDAR