BEGIN:VCALENDAR
VERSION:2.0
PRODID:-//Clube de Engenharia - ECPv6.15.16//NONSGML v1.0//EN
CALSCALE:GREGORIAN
METHOD:PUBLISH
X-WR-CALNAME:Clube de Engenharia
X-ORIGINAL-URL:https://portalclubedeengenharia.org.br
X-WR-CALDESC:Eventos para Clube de Engenharia
REFRESH-INTERVAL;VALUE=DURATION:PT1H
X-Robots-Tag:noindex
X-PUBLISHED-TTL:PT1H
BEGIN:VTIMEZONE
TZID:America/Sao_Paulo
BEGIN:STANDARD
TZOFFSETFROM:-0300
TZOFFSETTO:-0300
TZNAME:-03
DTSTART:20200101T000000
END:STANDARD
END:VTIMEZONE
BEGIN:VEVENT
DTSTART;TZID=America/Sao_Paulo:20210803T160000
DTEND;TZID=America/Sao_Paulo:20210803T180000
DTSTAMP:20260424T145656
CREATED:20210803T025101Z
LAST-MODIFIED:20240712T152727Z
UID:27565-1628006400-1628013600@portalclubedeengenharia.org.br
SUMMARY:Agricultura: Gerando riqueza com base no conhecimento
DESCRIPTION:AGRICULTURA: GERANDO RIQUEZA COM BASE NO CONHECIMENTO\nDia: 03 de agosto de 2021 – (terça-feira) – das 16h às 18h\nWEBINÁRIO ao VIVO e GRATUITO \nRealização: Academia Brasileira de Ciências \nInscrições: clique aqui  https://bit.ly/abcwebinario41 \nForma de acesso no dia do evento:\nApós a inscrição\, basta acessar: www.abc.org.br/transmissao
URL:https://portalclubedeengenharia.org.br/evento/agricultura-gerando-riqueza-com-base-no-conhecimento/
CATEGORIES:Eventos,Outros Eventos
ATTACH;FMTTYPE=image/jpeg:https://portalclubedeengenharia.org.br/wp-content/uploads/2024/07/webnario-agri.jpg
END:VEVENT
END:VCALENDAR