BEGIN:VCALENDAR
VERSION:2.0
PRODID:-//Clube de Engenharia - ECPv6.15.16//NONSGML v1.0//EN
CALSCALE:GREGORIAN
METHOD:PUBLISH
X-WR-CALNAME:Clube de Engenharia
X-ORIGINAL-URL:https://portalclubedeengenharia.org.br
X-WR-CALDESC:Eventos para Clube de Engenharia
REFRESH-INTERVAL;VALUE=DURATION:PT1H
X-Robots-Tag:noindex
X-PUBLISHED-TTL:PT1H
BEGIN:VTIMEZONE
TZID:America/Sao_Paulo
BEGIN:STANDARD
TZOFFSETFROM:-0200
TZOFFSETTO:-0300
TZNAME:-03
DTSTART:20160221T020000
END:STANDARD
BEGIN:DAYLIGHT
TZOFFSETFROM:-0300
TZOFFSETTO:-0200
TZNAME:-02
DTSTART:20161016T030000
END:DAYLIGHT
BEGIN:STANDARD
TZOFFSETFROM:-0200
TZOFFSETTO:-0300
TZNAME:-03
DTSTART:20170219T020000
END:STANDARD
BEGIN:DAYLIGHT
TZOFFSETFROM:-0300
TZOFFSETTO:-0200
TZNAME:-02
DTSTART:20171015T030000
END:DAYLIGHT
BEGIN:STANDARD
TZOFFSETFROM:-0200
TZOFFSETTO:-0300
TZNAME:-03
DTSTART:20180218T020000
END:STANDARD
BEGIN:DAYLIGHT
TZOFFSETFROM:-0300
TZOFFSETTO:-0200
TZNAME:-02
DTSTART:20181104T030000
END:DAYLIGHT
END:VTIMEZONE
BEGIN:VEVENT
DTSTART;TZID=America/Sao_Paulo:20170418T180000
DTEND;TZID=America/Sao_Paulo:20170418T200000
DTSTAMP:20260419T212852
CREATED:20170329T205400Z
LAST-MODIFIED:20240712T152229Z
UID:26123-1492538400-1492545600@portalclubedeengenharia.org.br
SUMMARY:Amazônia\, ameaçada e cobiçada
DESCRIPTION:Ameaça à Soberania Nacional \nPalestrante:Lynce NavieiraGeólogo Sênior – Formado na UFRJ – 1978Especializações: Fotointerpretação\, interpretação de imagens de satélites (LandSat\, Radam\, tratamento e beneficiamento de minérios\, geologia econômica\, economia mineral\, avaliação de jazidas).Trabalhou na NUCLEBRAS\, BAYER\, TECNOSOLO\, BP. Foi diretor técnico da SCHELITA MINERAÇÃO\, tendo trabalhado quase 10 anos na região Amazônica em pesquisa. \nPromoção:Diretoria de Atividades Técnicas – DATDivisão Técnica de Recursos Hídricos e Saneamento – DRHSDivisão Técnica de Engenharia do Ambiente – DEA \nServiço:Dia 18/04 às 18h22º andar do Clube de EngenhariaAv. Rio Branco\, 124 – Metrô Estação Carioca
URL:https://portalclubedeengenharia.org.br/evento/amazonia-ameacada-e-cobicada/
ATTACH;FMTTYPE=image/jpeg:https://portalclubedeengenharia.org.br/wp-content/uploads/2024/07/1492028917.jpg
END:VEVENT
END:VCALENDAR