BEGIN:VCALENDAR
VERSION:2.0
PRODID:-//Clube de Engenharia - ECPv6.15.16//NONSGML v1.0//EN
CALSCALE:GREGORIAN
METHOD:PUBLISH
X-WR-CALNAME:Clube de Engenharia
X-ORIGINAL-URL:https://portalclubedeengenharia.org.br
X-WR-CALDESC:Eventos para Clube de Engenharia
REFRESH-INTERVAL;VALUE=DURATION:PT1H
X-Robots-Tag:noindex
X-PUBLISHED-TTL:PT1H
BEGIN:VTIMEZONE
TZID:America/Sao_Paulo
BEGIN:STANDARD
TZOFFSETFROM:-0200
TZOFFSETTO:-0300
TZNAME:-03
DTSTART:20110220T020000
END:STANDARD
BEGIN:DAYLIGHT
TZOFFSETFROM:-0300
TZOFFSETTO:-0200
TZNAME:-02
DTSTART:20111016T030000
END:DAYLIGHT
BEGIN:STANDARD
TZOFFSETFROM:-0200
TZOFFSETTO:-0300
TZNAME:-03
DTSTART:20120226T020000
END:STANDARD
BEGIN:DAYLIGHT
TZOFFSETFROM:-0300
TZOFFSETTO:-0200
TZNAME:-02
DTSTART:20121021T030000
END:DAYLIGHT
BEGIN:STANDARD
TZOFFSETFROM:-0200
TZOFFSETTO:-0300
TZNAME:-03
DTSTART:20130217T020000
END:STANDARD
BEGIN:DAYLIGHT
TZOFFSETFROM:-0300
TZOFFSETTO:-0200
TZNAME:-02
DTSTART:20131020T030000
END:DAYLIGHT
END:VTIMEZONE
BEGIN:VEVENT
DTSTART;TZID=America/Sao_Paulo:20121127T183000
DTEND;TZID=America/Sao_Paulo:20121127T210000
DTSTAMP:20260425T144002
CREATED:20121029T220000Z
LAST-MODIFIED:20240712T151809Z
UID:25153-1354041000-1354050000@portalclubedeengenharia.org.br
SUMMARY:Aplicação da argila expandida na construção civil
DESCRIPTION:Dia 27/11/12 – 18h30 – 22º andar \nPalestra “APLICAÇÃO DA ARGILA EXPANDIDA NA CONSTRUÇÃO CIVIL” \nPalestrante: Carlos Alberto Pereira – Engenheiro Civil e Engenheiro Técnico da CINEXPAN \nPromoção: DAT/DCO \n 
URL:https://portalclubedeengenharia.org.br/evento/aplicacao-da-argila-expandida-na-construcao-civil/
END:VEVENT
END:VCALENDAR