BEGIN:VCALENDAR
VERSION:2.0
PRODID:-//Clube de Engenharia - ECPv6.15.16//NONSGML v1.0//EN
CALSCALE:GREGORIAN
METHOD:PUBLISH
X-WR-CALNAME:Clube de Engenharia
X-ORIGINAL-URL:https://portalclubedeengenharia.org.br
X-WR-CALDESC:Eventos para Clube de Engenharia
REFRESH-INTERVAL;VALUE=DURATION:PT1H
X-Robots-Tag:noindex
X-PUBLISHED-TTL:PT1H
BEGIN:VTIMEZONE
TZID:America/Sao_Paulo
BEGIN:STANDARD
TZOFFSETFROM:-0200
TZOFFSETTO:-0300
TZNAME:-03
DTSTART:20180218T020000
END:STANDARD
BEGIN:DAYLIGHT
TZOFFSETFROM:-0300
TZOFFSETTO:-0200
TZNAME:-02
DTSTART:20181104T030000
END:DAYLIGHT
BEGIN:STANDARD
TZOFFSETFROM:-0200
TZOFFSETTO:-0300
TZNAME:-03
DTSTART:20190217T020000
END:STANDARD
END:VTIMEZONE
BEGIN:VEVENT
DTSTART;TZID=America/Sao_Paulo:20190627T173000
DTEND;TZID=America/Sao_Paulo:20190627T200000
DTSTAMP:20260420T035845
CREATED:20190527T233153Z
LAST-MODIFIED:20240712T152547Z
UID:27017-1561656600-1561665600@portalclubedeengenharia.org.br
SUMMARY:Aspectos Geotécnicos da Engenharia Offshore
DESCRIPTION:Resumo:\nA Geotecnia está presente em quase todas as disciplinas da Engenharia Offshore. Por consequência\, é de fundamental importância que sua aplicação seja abrangente\, tanto científica quanto tecnologicamente. Dessa forma\, serão apresentados aspectos relevantes da investigação geotécnica no mar\, da interação solo-estrutura de dutos\, de fundações superficiais e profundas\, de práticas atuais em projeto e de tendências em pesquisa. \nPalestrante:\nPaulo Santa Maria\nConsultor e ex-professor da Escola Politécnica da Universidade Federal do Rio de Janeiro (UFRJ) e COPPE/UFRJ \nPromoção:\nClube de Engenharia\nDiretoria de Atividades Técnicas – DAT\nDivisão Técnica de Geotecnia – DTG\nAssociação Brasileira de Mecânica dos Solos e Engenharia Geotécnica – ABMS – Núcleo Regional do Rio de Janeiro \nServiço:\nDia 27/06\, quinta-feira\, às 17h30\n22º andar do Clube de Engenharia\nAv. Rio Branco\, 124 – Metrô Estação Carioca
URL:https://portalclubedeengenharia.org.br/evento/aspectos-geotecnicos-da-engenharia-offshore/
CATEGORIES:Eventos,Eventos do Clube
ATTACH;FMTTYPE=image/jpeg:https://portalclubedeengenharia.org.br/wp-content/uploads/2024/07/aspectos-geotecnicos-da-engenharia-offshore1.jpg
END:VEVENT
END:VCALENDAR