BEGIN:VCALENDAR
VERSION:2.0
PRODID:-//Clube de Engenharia - ECPv6.15.16//NONSGML v1.0//EN
CALSCALE:GREGORIAN
METHOD:PUBLISH
X-WR-CALNAME:Clube de Engenharia
X-ORIGINAL-URL:https://portalclubedeengenharia.org.br
X-WR-CALDESC:Eventos para Clube de Engenharia
REFRESH-INTERVAL;VALUE=DURATION:PT1H
X-Robots-Tag:noindex
X-PUBLISHED-TTL:PT1H
BEGIN:VTIMEZONE
TZID:America/Sao_Paulo
BEGIN:STANDARD
TZOFFSETFROM:-0300
TZOFFSETTO:-0300
TZNAME:-03
DTSTART:20200101T000000
END:STANDARD
END:VTIMEZONE
BEGIN:VEVENT
DTSTART;TZID=America/Sao_Paulo:20210809T190000
DTEND;TZID=America/Sao_Paulo:20210809T220000
DTSTAMP:20260422T194018
CREATED:20210806T043629Z
LAST-MODIFIED:20240712T152728Z
UID:27569-1628535600-1628546400@portalclubedeengenharia.org.br
SUMMARY:Audiência Pública: Plano Diretor da Cidade do Rio
DESCRIPTION:O Município do Rio de Janeiro\, através da Secretaria Municipal de Planejamento Urbano\, realizará Audiência Pública para apresentação e debate acerca da minuta do Projeto de Lei Complementar para o novo Plano Diretor da Cidade.\nA Audiência acontecerá de maneira remota\, através do aplicativo Zoom e terá transmissão ao vivo pelo YouTube. Devido a limitações técnicas\, a sala virtual onde ocorrerá a audiência comporta até 500 participantes por ordem de chegada. \n>> Audiência Pública sobre a minuta do Projeto de Lei Complementar para o novo Plano Diretor da Cidade <<\nData: 9 de agosto de 2021 – das 19h às 22h \nOs Links para a respectiva sala do aplicativo Zoom e para transmissão ao vivo no Youtube podem ser encontrados no endereço a seguir – https://linktr.ee/planodiretor.rio \nPara maiores informações\, contato e sugestões\, acesse a plataforma do Plano Diretor em – http://planodiretor.rio
URL:https://portalclubedeengenharia.org.br/evento/audiencia-publica-plano-diretor-rio/
CATEGORIES:Eventos,Outros Eventos
ATTACH;FMTTYPE=image/jpeg:https://portalclubedeengenharia.org.br/wp-content/uploads/2024/07/pdrio.jpg
END:VEVENT
END:VCALENDAR