BEGIN:VCALENDAR
VERSION:2.0
PRODID:-//Clube de Engenharia - ECPv6.15.16//NONSGML v1.0//EN
CALSCALE:GREGORIAN
METHOD:PUBLISH
X-WR-CALNAME:Clube de Engenharia
X-ORIGINAL-URL:https://portalclubedeengenharia.org.br
X-WR-CALDESC:Eventos para Clube de Engenharia
REFRESH-INTERVAL;VALUE=DURATION:PT1H
X-Robots-Tag:noindex
X-PUBLISHED-TTL:PT1H
BEGIN:VTIMEZONE
TZID:America/Sao_Paulo
BEGIN:STANDARD
TZOFFSETFROM:-0200
TZOFFSETTO:-0300
TZNAME:-03
DTSTART:20130217T020000
END:STANDARD
BEGIN:DAYLIGHT
TZOFFSETFROM:-0300
TZOFFSETTO:-0200
TZNAME:-02
DTSTART:20131020T030000
END:DAYLIGHT
BEGIN:STANDARD
TZOFFSETFROM:-0200
TZOFFSETTO:-0300
TZNAME:-03
DTSTART:20140216T020000
END:STANDARD
BEGIN:DAYLIGHT
TZOFFSETFROM:-0300
TZOFFSETTO:-0200
TZNAME:-02
DTSTART:20141019T030000
END:DAYLIGHT
BEGIN:STANDARD
TZOFFSETFROM:-0200
TZOFFSETTO:-0300
TZNAME:-03
DTSTART:20150222T020000
END:STANDARD
BEGIN:DAYLIGHT
TZOFFSETFROM:-0300
TZOFFSETTO:-0200
TZNAME:-02
DTSTART:20151018T030000
END:DAYLIGHT
END:VTIMEZONE
BEGIN:VEVENT
DTSTART;TZID=America/Sao_Paulo:20140929T183000
DTEND;TZID=America/Sao_Paulo:20140929T200000
DTSTAMP:20260425T160135
CREATED:20140908T235500Z
LAST-MODIFIED:20240712T151939Z
UID:25448-1412015400-1412020800@portalclubedeengenharia.org.br
SUMMARY:Avaliação de impacto sonoro nas vizinhanças do Aeroporto Santos Dumont
DESCRIPTION:Dia 29/09/14 – 18:30h – 20º andar \nAvaliação de Impacto Sonoro nas Vizinhanças do Aeroporto Santos Dumont \nPalestrante: Rita de Cássia C. Nogueira – Engenheira Civil \nPromoção: DAT/DRHS \nApoio: ABPEF/DEA \n 
URL:https://portalclubedeengenharia.org.br/evento/avaliacao-de-impacto-sonoro-nas-vizinhancas-do-aeroporto-santos-dumont/
END:VEVENT
END:VCALENDAR