BEGIN:VCALENDAR
VERSION:2.0
PRODID:-//Clube de Engenharia - ECPv6.15.16//NONSGML v1.0//EN
CALSCALE:GREGORIAN
METHOD:PUBLISH
X-WR-CALNAME:Clube de Engenharia
X-ORIGINAL-URL:https://portalclubedeengenharia.org.br
X-WR-CALDESC:Eventos para Clube de Engenharia
REFRESH-INTERVAL;VALUE=DURATION:PT1H
X-Robots-Tag:noindex
X-PUBLISHED-TTL:PT1H
BEGIN:VTIMEZONE
TZID:America/Sao_Paulo
BEGIN:STANDARD
TZOFFSETFROM:-0200
TZOFFSETTO:-0300
TZNAME:-03
DTSTART:20140216T020000
END:STANDARD
BEGIN:DAYLIGHT
TZOFFSETFROM:-0300
TZOFFSETTO:-0200
TZNAME:-02
DTSTART:20141019T030000
END:DAYLIGHT
BEGIN:STANDARD
TZOFFSETFROM:-0200
TZOFFSETTO:-0300
TZNAME:-03
DTSTART:20150222T020000
END:STANDARD
BEGIN:DAYLIGHT
TZOFFSETFROM:-0300
TZOFFSETTO:-0200
TZNAME:-02
DTSTART:20151018T030000
END:DAYLIGHT
BEGIN:STANDARD
TZOFFSETFROM:-0200
TZOFFSETTO:-0300
TZNAME:-03
DTSTART:20160221T020000
END:STANDARD
BEGIN:DAYLIGHT
TZOFFSETFROM:-0300
TZOFFSETTO:-0200
TZNAME:-02
DTSTART:20161016T030000
END:DAYLIGHT
END:VTIMEZONE
BEGIN:VEVENT
DTSTART;TZID=America/Sao_Paulo:20151126T180000
DTEND;TZID=America/Sao_Paulo:20151126T203000
DTSTAMP:20260424T093018
CREATED:20151021T212700Z
LAST-MODIFIED:20240712T152052Z
UID:25709-1448560800-1448569800@portalclubedeengenharia.org.br
SUMMARY:Avaliações de Imóveis Histórico-Culturais pelo Custo de Oportunidade
DESCRIPTION:Palestra “AVALIAÇÕES DE IMÓVEIS HISTÓRICO-CULTURAIS PELO CUSTO DE OPORTUNIDADE” – (apresentado no Painel de Avaliações do XVIII COPREAP/2015 em Belo Horizonte) \nPalestrante: Ronaldo Foster Vidal – Arquiteto em Urbanista Diretor Adjunto do IBAPE Nacional\, Conselheiro do IEL/IBAPE-RJ\, prêmio especial por trabalho de avaliações de imóveis histórico-culturais concedido pelo Appraisal Institute no XXV Congresso UPAV/Miami e Membro do Grupo CB-02 da ABNT-14653 parte 7. \nPromoção: Diretoria de Atividades Técnicas – DAT e Divisão Técnica de Engenharia Econômica – DEC. \nApoio: Divisão Técnica de Urbanismo e Planejamento Regional – DUR\, Divisão Técnica de Ciência e Tecnologia – DCTEC e ABEA. \nServiço:  \nDia 26/11/15 – 18h. \n20º andar do Clube de Engenharia. \nClique na Imagem para ampliar: \n \n 
URL:https://portalclubedeengenharia.org.br/evento/avaliacoes-de-imoveis-historico-culturais-pelo-custo-de-oportunidade/
ATTACH;FMTTYPE=image/jpeg:https://portalclubedeengenharia.org.br/wp-content/uploads/2024/07/1447882894.jpg
END:VEVENT
END:VCALENDAR