BEGIN:VCALENDAR
VERSION:2.0
PRODID:-//Clube de Engenharia - ECPv6.15.16//NONSGML v1.0//EN
CALSCALE:GREGORIAN
METHOD:PUBLISH
X-WR-CALNAME:Clube de Engenharia
X-ORIGINAL-URL:https://portalclubedeengenharia.org.br
X-WR-CALDESC:Eventos para Clube de Engenharia
REFRESH-INTERVAL;VALUE=DURATION:PT1H
X-Robots-Tag:noindex
X-PUBLISHED-TTL:PT1H
BEGIN:VTIMEZONE
TZID:America/Sao_Paulo
BEGIN:STANDARD
TZOFFSETFROM:-0200
TZOFFSETTO:-0300
TZNAME:-03
DTSTART:20160221T020000
END:STANDARD
BEGIN:DAYLIGHT
TZOFFSETFROM:-0300
TZOFFSETTO:-0200
TZNAME:-02
DTSTART:20161016T030000
END:DAYLIGHT
BEGIN:STANDARD
TZOFFSETFROM:-0200
TZOFFSETTO:-0300
TZNAME:-03
DTSTART:20170219T020000
END:STANDARD
BEGIN:DAYLIGHT
TZOFFSETFROM:-0300
TZOFFSETTO:-0200
TZNAME:-02
DTSTART:20171015T030000
END:DAYLIGHT
BEGIN:STANDARD
TZOFFSETFROM:-0200
TZOFFSETTO:-0300
TZNAME:-03
DTSTART:20180218T020000
END:STANDARD
BEGIN:DAYLIGHT
TZOFFSETFROM:-0300
TZOFFSETTO:-0200
TZNAME:-02
DTSTART:20181104T030000
END:DAYLIGHT
END:VTIMEZONE
BEGIN:VEVENT
DTSTART;TZID=America/Sao_Paulo:20170124T160000
DTEND;TZID=America/Sao_Paulo:20170124T180000
DTSTAMP:20260426T010357
CREATED:20161202T233400Z
LAST-MODIFIED:20240712T152212Z
UID:26040-1485273600-1485280800@portalclubedeengenharia.org.br
SUMMARY:Aviação civil no Brasil
DESCRIPTION:AVIAÇÃO CIVIL NO BRASIL Situação atual – Plano de desenvolvimento regional – Investimento \nPalestrante:Dr. Dario Rais Lopes Secretaria de Aviação Civil \nPromoção:Diretoria de Atividades Técnicas – DATDivisão Técnica de Transportes e Logística – DTRLDivisão Técnica de Engenharia Econômica – DECDivisão Técnica de Exercício Profissional – DEPDivisão Técnica de Formação do Engenheiro – DFE \nServiço:Dia 24/01/2017 às 16h22º andar do Clube de Engenharia Av. Rio Branco\, 124 – Metrô Estação Carioca
URL:https://portalclubedeengenharia.org.br/evento/aviacao-civil-no-brasil/
ATTACH;FMTTYPE=image/jpeg:https://portalclubedeengenharia.org.br/wp-content/uploads/2024/07/1483388404.jpg
END:VEVENT
END:VCALENDAR