BEGIN:VCALENDAR
VERSION:2.0
PRODID:-//Clube de Engenharia - ECPv6.15.16//NONSGML v1.0//EN
CALSCALE:GREGORIAN
METHOD:PUBLISH
X-WR-CALNAME:Clube de Engenharia
X-ORIGINAL-URL:https://portalclubedeengenharia.org.br
X-WR-CALDESC:Eventos para Clube de Engenharia
REFRESH-INTERVAL;VALUE=DURATION:PT1H
X-Robots-Tag:noindex
X-PUBLISHED-TTL:PT1H
BEGIN:VTIMEZONE
TZID:America/Sao_Paulo
BEGIN:STANDARD
TZOFFSETFROM:-0200
TZOFFSETTO:-0300
TZNAME:-03
DTSTART:20140216T020000
END:STANDARD
BEGIN:DAYLIGHT
TZOFFSETFROM:-0300
TZOFFSETTO:-0200
TZNAME:-02
DTSTART:20141019T030000
END:DAYLIGHT
BEGIN:STANDARD
TZOFFSETFROM:-0200
TZOFFSETTO:-0300
TZNAME:-03
DTSTART:20150222T020000
END:STANDARD
BEGIN:DAYLIGHT
TZOFFSETFROM:-0300
TZOFFSETTO:-0200
TZNAME:-02
DTSTART:20151018T030000
END:DAYLIGHT
BEGIN:STANDARD
TZOFFSETFROM:-0200
TZOFFSETTO:-0300
TZNAME:-03
DTSTART:20160221T020000
END:STANDARD
BEGIN:DAYLIGHT
TZOFFSETFROM:-0300
TZOFFSETTO:-0200
TZNAME:-02
DTSTART:20161016T030000
END:DAYLIGHT
END:VTIMEZONE
BEGIN:VEVENT
DTSTART;TZID=America/Sao_Paulo:20150903T180000
DTEND;TZID=America/Sao_Paulo:20150903T193000
DTSTAMP:20260424T083846
CREATED:20150817T203500Z
LAST-MODIFIED:20240712T152039Z
UID:25654-1441303200-1441308600@portalclubedeengenharia.org.br
SUMMARY:Ciclo de Conferências de Inverno: Inspeção de Estruturas de Concreto Armado em Edificações
DESCRIPTION:Dia 03/09/15 – 18h – 20º andar \nCiclo de Conferências de Inverno “INSPEÇÃO DE ESTRUTURAS DE CONCRETO ARMADO EM EDIFICAÇÕES” \nInspeção de Estruturas de Concreto Armado em Edificações \nPalestrante: Manoel Lapa e Silva \nPromoção: DAT \n 
URL:https://portalclubedeengenharia.org.br/evento/ciclo-de-conferencias-de-inverno-inspecao-de-estruturas-de-concreto-armado-em-edificacoes/
END:VEVENT
END:VCALENDAR