BEGIN:VCALENDAR
VERSION:2.0
PRODID:-//Clube de Engenharia - ECPv6.15.16//NONSGML v1.0//EN
CALSCALE:GREGORIAN
METHOD:PUBLISH
X-WR-CALNAME:Clube de Engenharia
X-ORIGINAL-URL:https://portalclubedeengenharia.org.br
X-WR-CALDESC:Eventos para Clube de Engenharia
REFRESH-INTERVAL;VALUE=DURATION:PT1H
X-Robots-Tag:noindex
X-PUBLISHED-TTL:PT1H
BEGIN:VTIMEZONE
TZID:America/Sao_Paulo
BEGIN:STANDARD
TZOFFSETFROM:-0200
TZOFFSETTO:-0300
TZNAME:-03
DTSTART:20170219T020000
END:STANDARD
BEGIN:DAYLIGHT
TZOFFSETFROM:-0300
TZOFFSETTO:-0200
TZNAME:-02
DTSTART:20171015T030000
END:DAYLIGHT
BEGIN:STANDARD
TZOFFSETFROM:-0200
TZOFFSETTO:-0300
TZNAME:-03
DTSTART:20180218T020000
END:STANDARD
BEGIN:DAYLIGHT
TZOFFSETFROM:-0300
TZOFFSETTO:-0200
TZNAME:-02
DTSTART:20181104T030000
END:DAYLIGHT
BEGIN:STANDARD
TZOFFSETFROM:-0200
TZOFFSETTO:-0300
TZNAME:-03
DTSTART:20190217T020000
END:STANDARD
END:VTIMEZONE
BEGIN:VEVENT
DTSTART;TZID=America/Sao_Paulo:20181204T170000
DTEND;TZID=America/Sao_Paulo:20181204T184500
DTSTAMP:20260424T032740
CREATED:20181203T200607Z
LAST-MODIFIED:20240712T152517Z
UID:26860-1543942800-1543949100@portalclubedeengenharia.org.br
SUMMARY:Cine Vídeo: Um Estranho Casal
DESCRIPTION:Em mês festivo\, dezembro\, o Cine Vídeo participa com comédias que fizeram sucesso em seu tempo. Às terças-feiras\, às 17h\, no 19º andar. \nDia 04\nUm Estranho Casal\nDuração: 1h45\nAno de Produção: 1968\nGênero: Comédia\nDireção: Gene Saks\nAtores: Jack Lemmon\, Walter Matthau\, Monica Evans \nSinopse:\nFelix Ungar (Jack Lemmon) e Oscar Madison (Walter Matthau)\, dois grandes amigos\, decidem moram juntos quando seus casamentos fracassam\, mas descobrem logo que os seus temperamentos são bem diferentes e o modo de comandar uma casa é muito conflitante\, pois enquanto Oscar é bagunceiro e desorganizado Felix é exatamente o oposto. \nPromoção:\nDiretoria de Atividades Culturais
URL:https://portalclubedeengenharia.org.br/evento/cine-video-um-estranho-casal/
CATEGORIES:Eventos,Eventos do Clube
ATTACH;FMTTYPE=image/jpeg:https://portalclubedeengenharia.org.br/wp-content/uploads/2024/07/03-12-um-estranho-casal.jpg
END:VEVENT
END:VCALENDAR