BEGIN:VCALENDAR
VERSION:2.0
PRODID:-//Clube de Engenharia - ECPv6.15.16//NONSGML v1.0//EN
CALSCALE:GREGORIAN
METHOD:PUBLISH
X-WR-CALNAME:Clube de Engenharia
X-ORIGINAL-URL:https://portalclubedeengenharia.org.br
X-WR-CALDESC:Eventos para Clube de Engenharia
REFRESH-INTERVAL;VALUE=DURATION:PT1H
X-Robots-Tag:noindex
X-PUBLISHED-TTL:PT1H
BEGIN:VTIMEZONE
TZID:America/Sao_Paulo
BEGIN:STANDARD
TZOFFSETFROM:-0200
TZOFFSETTO:-0300
TZNAME:-03
DTSTART:20160221T020000
END:STANDARD
BEGIN:DAYLIGHT
TZOFFSETFROM:-0300
TZOFFSETTO:-0200
TZNAME:-02
DTSTART:20161016T030000
END:DAYLIGHT
BEGIN:STANDARD
TZOFFSETFROM:-0200
TZOFFSETTO:-0300
TZNAME:-03
DTSTART:20170219T020000
END:STANDARD
BEGIN:DAYLIGHT
TZOFFSETFROM:-0300
TZOFFSETTO:-0200
TZNAME:-02
DTSTART:20171015T030000
END:DAYLIGHT
BEGIN:STANDARD
TZOFFSETFROM:-0200
TZOFFSETTO:-0300
TZNAME:-03
DTSTART:20180218T020000
END:STANDARD
BEGIN:DAYLIGHT
TZOFFSETFROM:-0300
TZOFFSETTO:-0200
TZNAME:-02
DTSTART:20181104T030000
END:DAYLIGHT
END:VTIMEZONE
BEGIN:VEVENT
DTSTART;TZID=America/Sao_Paulo:20170307T170000
DTEND;TZID=America/Sao_Paulo:20170307T190000
DTSTAMP:20260424T145532
CREATED:20170224T230000Z
LAST-MODIFIED:20240712T152219Z
UID:26073-1488906000-1488913200@portalclubedeengenharia.org.br
SUMMARY:Cinevídeo: Ao Mestre com Carinho
DESCRIPTION:O cinema do Clube de Engenharia recebe associados e seus convidados todas as terças-feiras\, às 17h\, no 19º andar. A pipoca é por nossa conta. \nEm março tem volta às aulas\, o Cine Vídeo apresenta quatro filmes que foram muito assistidos sobre o tema escola/universidade. \n07/03 \nAo Mestre com Carinho \nDuração: 01h45min \nAno de Produção: 1967 \nGênero: Drama \nDireção: James Clavell \nAtores: Sidney Poitier\, Judy Geeson\, Christian Roberts \nSinopse:Um engenheiro aceita lecionar numa escola barra-pesada em Londres\, onde se depara com um grupo de adolescentes rebeldes determinados a expulsá-lo do cargo. Tratados com respeito\, os alunos abandonam o comportamento hostil\, se afeiçoando ao mestre. \nEstão à disposição dos nossos sócios uma centena de filmes nacionais que podem ser vistos em nossa Biblioteca do 22º andar.Basta agendar por telefone 2178-9269 ou 2178-9263\, de segunda a sexta-feira\, no horário das 10h às 16h e o sócio poderá assistir na tela do computador da Biblioteca ou trazer seu próprio laptop.Acesse a lista completa: https://www.portalclubedeengenharia.org.br/info/centenas-de-filmes-brasileiros-disponiveis-para-os-socios \nPromoção da DIRETORIA DE ATIVIDADES CULTURAIS
URL:https://portalclubedeengenharia.org.br/evento/cinevideo-ao-mestre-com-carinho/
ATTACH;FMTTYPE=image/jpeg:https://portalclubedeengenharia.org.br/wp-content/uploads/2024/07/1487966772.jpg
END:VEVENT
END:VCALENDAR