BEGIN:VCALENDAR
VERSION:2.0
PRODID:-//Clube de Engenharia - ECPv6.15.16//NONSGML v1.0//EN
CALSCALE:GREGORIAN
METHOD:PUBLISH
X-WR-CALNAME:Clube de Engenharia
X-ORIGINAL-URL:https://portalclubedeengenharia.org.br
X-WR-CALDESC:Eventos para Clube de Engenharia
REFRESH-INTERVAL;VALUE=DURATION:PT1H
X-Robots-Tag:noindex
X-PUBLISHED-TTL:PT1H
BEGIN:VTIMEZONE
TZID:America/Sao_Paulo
BEGIN:STANDARD
TZOFFSETFROM:-0200
TZOFFSETTO:-0300
TZNAME:-03
DTSTART:20140216T020000
END:STANDARD
BEGIN:DAYLIGHT
TZOFFSETFROM:-0300
TZOFFSETTO:-0200
TZNAME:-02
DTSTART:20141019T030000
END:DAYLIGHT
BEGIN:STANDARD
TZOFFSETFROM:-0200
TZOFFSETTO:-0300
TZNAME:-03
DTSTART:20150222T020000
END:STANDARD
BEGIN:DAYLIGHT
TZOFFSETFROM:-0300
TZOFFSETTO:-0200
TZNAME:-02
DTSTART:20151018T030000
END:DAYLIGHT
BEGIN:STANDARD
TZOFFSETFROM:-0200
TZOFFSETTO:-0300
TZNAME:-03
DTSTART:20160221T020000
END:STANDARD
BEGIN:DAYLIGHT
TZOFFSETFROM:-0300
TZOFFSETTO:-0200
TZNAME:-02
DTSTART:20161016T030000
END:DAYLIGHT
END:VTIMEZONE
BEGIN:VEVENT
DTSTART;TZID=America/Sao_Paulo:20151124T170000
DTEND;TZID=America/Sao_Paulo:20151124T190000
DTSTAMP:20260424T075827
CREATED:20151105T215900Z
LAST-MODIFIED:20240712T152054Z
UID:25717-1448384400-1448391600@portalclubedeengenharia.org.br
SUMMARY:Cinevídeo - "As leis do crime"\, de Wai Keung Lau
DESCRIPTION:O cinema do Clube de Engenharia recebe associados e seus convidados todas as terças-feiras\, às 17:00\, no 19º andar. A pipoca é por nossa conta. \nAS LEIS DO CRIME \n\n\n\n\nDirigido por \n\n\nWai Keung Lau \n\n\n\n\nCom \n\n\nJustin Chon\, Kevin Wu\, Harry Shum Jr. mais \n\n\n\n\nGênero \n\n\nAção \, Policial \, Drama \n\n\n\n\nNacionalidade \n\n\nEUA \, Hong Kong \n\n\n\n\nSinopse:A década de 1980 em Nova York é marcada por lutar de gangues\, violência e grandes traições. Sonny (Justin Chon) e Steven (Kevin Wu) são colegas de escola e grandes amigos. É 1983. Eles entram em na gangue Green Dragons\, de Chinatown. Sonny e Steven aprendem a matar e aprendem quem não devem matar. Logo eles têm a missão de matat os líderes de uma gangue inimiga. \n 
URL:https://portalclubedeengenharia.org.br/evento/cinevideo-as-leis-do-crime-de-wai-keung-lau/
END:VEVENT
END:VCALENDAR