BEGIN:VCALENDAR
VERSION:2.0
PRODID:-//Clube de Engenharia - ECPv6.15.16//NONSGML v1.0//EN
CALSCALE:GREGORIAN
METHOD:PUBLISH
X-WR-CALNAME:Clube de Engenharia
X-ORIGINAL-URL:https://portalclubedeengenharia.org.br
X-WR-CALDESC:Eventos para Clube de Engenharia
REFRESH-INTERVAL;VALUE=DURATION:PT1H
X-Robots-Tag:noindex
X-PUBLISHED-TTL:PT1H
BEGIN:VTIMEZONE
TZID:America/Sao_Paulo
BEGIN:STANDARD
TZOFFSETFROM:-0200
TZOFFSETTO:-0300
TZNAME:-03
DTSTART:20120226T020000
END:STANDARD
BEGIN:DAYLIGHT
TZOFFSETFROM:-0300
TZOFFSETTO:-0200
TZNAME:-02
DTSTART:20121021T030000
END:DAYLIGHT
BEGIN:STANDARD
TZOFFSETFROM:-0200
TZOFFSETTO:-0300
TZNAME:-03
DTSTART:20130217T020000
END:STANDARD
BEGIN:DAYLIGHT
TZOFFSETFROM:-0300
TZOFFSETTO:-0200
TZNAME:-02
DTSTART:20131020T030000
END:DAYLIGHT
BEGIN:STANDARD
TZOFFSETFROM:-0200
TZOFFSETTO:-0300
TZNAME:-03
DTSTART:20140216T020000
END:STANDARD
BEGIN:DAYLIGHT
TZOFFSETFROM:-0300
TZOFFSETTO:-0200
TZNAME:-02
DTSTART:20141019T030000
END:DAYLIGHT
END:VTIMEZONE
BEGIN:VEVENT
DTSTART;TZID=America/Sao_Paulo:20130122T170000
DTEND;TZID=America/Sao_Paulo:20130122T200000
DTSTAMP:20260421T163826
CREATED:20130114T181700Z
LAST-MODIFIED:20240712T151822Z
UID:25199-1358874000-1358884800@portalclubedeengenharia.org.br
SUMMARY:Cinevídeo: Até a Eternidade
DESCRIPTION:19° andar – 17h – 22/01/13 \nSinopse: A comédia francesa Até a Eternidade conta com um elenco de peso para contar a história de um grupo de amigos. Ao longo dos cerca de 150 minutos de longa\, conhecemos um grupo de amigos que\, apesar de um evento traumático\, decide manter as férias anuais na praia. A relação entre eles\, suas convicções\, senso de culpa e amizade serão levados às últimas consequências\, até que\, finalmente\, eles serão forçados a confessar as mentiras que têm contado uns aos outros. \nGênero: Comédia Dramática   \nTempo de Duração: 154 (minutos)   \nAno de produção: 2010   \nDireção: Guillaume Canet  \nAtores:  François Cluzet\, Marion Cotillard\, Benoît Magimel e Jean Dujardin 
URL:https://portalclubedeengenharia.org.br/evento/cinevideo-ate-a-eternidade/
END:VEVENT
END:VCALENDAR