BEGIN:VCALENDAR
VERSION:2.0
PRODID:-//Clube de Engenharia - ECPv6.15.16//NONSGML v1.0//EN
CALSCALE:GREGORIAN
METHOD:PUBLISH
X-WR-CALNAME:Clube de Engenharia
X-ORIGINAL-URL:https://portalclubedeengenharia.org.br
X-WR-CALDESC:Eventos para Clube de Engenharia
REFRESH-INTERVAL;VALUE=DURATION:PT1H
X-Robots-Tag:noindex
X-PUBLISHED-TTL:PT1H
BEGIN:VTIMEZONE
TZID:America/Sao_Paulo
BEGIN:STANDARD
TZOFFSETFROM:-0200
TZOFFSETTO:-0300
TZNAME:-03
DTSTART:20160221T020000
END:STANDARD
BEGIN:DAYLIGHT
TZOFFSETFROM:-0300
TZOFFSETTO:-0200
TZNAME:-02
DTSTART:20161016T030000
END:DAYLIGHT
BEGIN:STANDARD
TZOFFSETFROM:-0200
TZOFFSETTO:-0300
TZNAME:-03
DTSTART:20170219T020000
END:STANDARD
BEGIN:DAYLIGHT
TZOFFSETFROM:-0300
TZOFFSETTO:-0200
TZNAME:-02
DTSTART:20171015T030000
END:DAYLIGHT
BEGIN:STANDARD
TZOFFSETFROM:-0200
TZOFFSETTO:-0300
TZNAME:-03
DTSTART:20180218T020000
END:STANDARD
BEGIN:DAYLIGHT
TZOFFSETFROM:-0300
TZOFFSETTO:-0200
TZNAME:-02
DTSTART:20181104T030000
END:DAYLIGHT
END:VTIMEZONE
BEGIN:VEVENT
DTSTART;TZID=America/Sao_Paulo:20171128T170000
DTEND;TZID=America/Sao_Paulo:20171128T200000
DTSTAMP:20260425T230737
CREATED:20171031T210100Z
LAST-MODIFIED:20240712T152338Z
UID:26449-1511888400-1511899200@portalclubedeengenharia.org.br
SUMMARY:Cinevídeo: Casino
DESCRIPTION:O cinema do Clube de Engenharia recebe associados e seus convidados todas as terças-feiras\, às 17h\, no 19º andar. A pipoca é por nossa conta.No mês de Novembro\, o Cinevídeo homenageia dois diretores de cinema\, que foram precursores em seu tempo. Stanley Kubric\, ainda em 1968\, previu no “Uma Odisséia no Espaço” os perigos da inteligência artificial. Martin Scorsese\, por sua vez\, revelou os bastidores de Hollywood e Las Vegas.  \n28/11 \nCasino \nDuração: 02h58min \nAno de Produção: 1996 \nGênero: Drama \nDireção: Martin Scorsese \nAtores: Robert De Niro\, Sharon Stone\, Joe Pesci \nSinopse:Através de três personagens básicos: um diretor de cassino (Robert De Niro) com um passado comprometedor; uma prostituta de alta classe (Sharon Stone)\, que dominava a todos\, menos o seu cafetão; e um gângster (Joe Pesci)\, que tomava conta do diretor do cassino e passa gradativamente\, a seguir os passos dela\, criado um painel de Las Vegas dos anos 70\, quando a Máfia controlava o jogo\, até o gradual surgimento das grandes corporações\, que ficaram no lugar das quadrilhas e transformaram a cidade em uma Disneylandia.  \nEstão à disposição dos nossos sócios uma centena de filmes nacionais que podem ser vistos em nossa Biblioteca do 22º andar.Basta agendar por telefone 2178-9269 ou 2178-9263\, de segunda a sexta-feira\, no horário das 10h às 16h e o sócio poderá assistir na tela do computador da Biblioteca ou trazer seu próprio laptop. \nAcesse a lista completa: https://www.portalclubedeengenharia.org.br/info/centenas-de-filmes-brasileiros-disponiveis-para-os-socios \nPromoção da DIRETORIA DE ATIVIDADES CULTURAIS
URL:https://portalclubedeengenharia.org.br/evento/cinevideo-casino/
ATTACH;FMTTYPE=image/jpeg:https://portalclubedeengenharia.org.br/wp-content/uploads/2024/07/1509476650.jpg
END:VEVENT
END:VCALENDAR