BEGIN:VCALENDAR
VERSION:2.0
PRODID:-//Clube de Engenharia - ECPv6.15.16//NONSGML v1.0//EN
CALSCALE:GREGORIAN
METHOD:PUBLISH
X-WR-CALNAME:Clube de Engenharia
X-ORIGINAL-URL:https://portalclubedeengenharia.org.br
X-WR-CALDESC:Eventos para Clube de Engenharia
REFRESH-INTERVAL;VALUE=DURATION:PT1H
X-Robots-Tag:noindex
X-PUBLISHED-TTL:PT1H
BEGIN:VTIMEZONE
TZID:America/Sao_Paulo
BEGIN:STANDARD
TZOFFSETFROM:-0200
TZOFFSETTO:-0300
TZNAME:-03
DTSTART:20150222T020000
END:STANDARD
BEGIN:DAYLIGHT
TZOFFSETFROM:-0300
TZOFFSETTO:-0200
TZNAME:-02
DTSTART:20151018T030000
END:DAYLIGHT
BEGIN:STANDARD
TZOFFSETFROM:-0200
TZOFFSETTO:-0300
TZNAME:-03
DTSTART:20160221T020000
END:STANDARD
BEGIN:DAYLIGHT
TZOFFSETFROM:-0300
TZOFFSETTO:-0200
TZNAME:-02
DTSTART:20161016T030000
END:DAYLIGHT
BEGIN:STANDARD
TZOFFSETFROM:-0200
TZOFFSETTO:-0300
TZNAME:-03
DTSTART:20170219T020000
END:STANDARD
BEGIN:DAYLIGHT
TZOFFSETFROM:-0300
TZOFFSETTO:-0200
TZNAME:-02
DTSTART:20171015T030000
END:DAYLIGHT
END:VTIMEZONE
BEGIN:VEVENT
DTSTART;TZID=America/Sao_Paulo:20161129T170000
DTEND;TZID=America/Sao_Paulo:20161129T190000
DTSTAMP:20260425T232953
CREATED:20161121T195700Z
LAST-MODIFIED:20240712T152208Z
UID:26029-1480438800-1480446000@portalclubedeengenharia.org.br
SUMMARY:Cinevídeo: Corra que a Polícia Vem Aí
DESCRIPTION:O cinema do Clube de Engenharia recebe associados e seus convidados todas as terças-feiras\, às 17h\, no 19º andar. A pipoca é por nossa conta. \nEm novembro\, o Cine Vídeo homenageia Gene Wilder\, recém falecido\, exibindo suas comédias. Ele se destacou como ator e diretor\, no cinema e na TV\, como um dos maiores comediantes norte-americanos. \n29/11 \nCorra que a Polícia Vem Aí \nDuração: 1h25min \nAno de Produção: 1988 \nGênero: Comédia\, Romance e Ação \nDireção: David Zucker \nAtores: Leslie Nielsen\, George Kennedy\, Priscilla Presley  \nSinopse:Frank Drebin (Leslie Nielsen)\, um incompetente detetive de polícia\, tenta deter um plano para assassinar a Rainha Elizabeth II (Jeannette Charles)\, da Inglaterra\, que está visitando os Estados Unidos. O mentor do plano é o magnata Vincent Ludwig (Ricardo Montalban)\, que pretende usar um jogador de beisebol submetido a uma lavagem cerebral para executar o atentado.
URL:https://portalclubedeengenharia.org.br/evento/cinevideo-corra-que-a-policia-vem-ai/
END:VEVENT
END:VCALENDAR