BEGIN:VCALENDAR
VERSION:2.0
PRODID:-//Clube de Engenharia - ECPv6.15.16//NONSGML v1.0//EN
CALSCALE:GREGORIAN
METHOD:PUBLISH
X-WR-CALNAME:Clube de Engenharia
X-ORIGINAL-URL:https://portalclubedeengenharia.org.br
X-WR-CALDESC:Eventos para Clube de Engenharia
REFRESH-INTERVAL;VALUE=DURATION:PT1H
X-Robots-Tag:noindex
X-PUBLISHED-TTL:PT1H
BEGIN:VTIMEZONE
TZID:America/Sao_Paulo
BEGIN:STANDARD
TZOFFSETFROM:-0200
TZOFFSETTO:-0300
TZNAME:-03
DTSTART:20170219T020000
END:STANDARD
BEGIN:DAYLIGHT
TZOFFSETFROM:-0300
TZOFFSETTO:-0200
TZNAME:-02
DTSTART:20171015T030000
END:DAYLIGHT
BEGIN:STANDARD
TZOFFSETFROM:-0200
TZOFFSETTO:-0300
TZNAME:-03
DTSTART:20180218T020000
END:STANDARD
BEGIN:DAYLIGHT
TZOFFSETFROM:-0300
TZOFFSETTO:-0200
TZNAME:-02
DTSTART:20181104T030000
END:DAYLIGHT
BEGIN:STANDARD
TZOFFSETFROM:-0200
TZOFFSETTO:-0300
TZNAME:-03
DTSTART:20190217T020000
END:STANDARD
END:VTIMEZONE
BEGIN:VEVENT
DTSTART;TZID=America/Sao_Paulo:20180123T170000
DTEND;TZID=America/Sao_Paulo:20180123T184900
DTSTAMP:20260425T161958
CREATED:20171221T194600Z
LAST-MODIFIED:20240712T152353Z
UID:26524-1516726800-1516733340@portalclubedeengenharia.org.br
SUMMARY:Cinevídeo: Dois é Bom Três é demais
DESCRIPTION:O cinema do Clube de Engenharia recebe associados e seus convidados todas as terças-feiras\, às 17h\, no 19º andar. A pipoca é por nossa conta. No dia 02 de janeiro\, a sessão começará às 16h.Está sendo festejado um dos maiores atores de cinema \, Kirk Douglas\, pelo seu 101º aniversário\, ocorrido em 9 de dezembro. Seu filho\, Michael Douglas\, também um destacado ator e produtor\, é vencedor de Oscar de Melhor Ator Principal. O Cine Vídeo deste mês homenageia os dois atores\, exibindo filmes de cada um. \n23/01 \nDois é Bom Três é demais \nDuração: 01h49min \nAno de Produção: 2006 \nGênero: Comédia \nDireção: Anthony Russo\, Joe Russo   \nAtores: Owen Wilson\, Kate Hudson\, Matt Dillon  \nSinopse:Carl Peterson (Matt Dillon) está prestes a se casar com Molly (Kate Hudson)\, a filha do poderoso empresário Sr. Thompson (Michael Douglas)\, para quem Carl trabalha. Após a cerimônia e a lua-de-mel\, Carl e Molly passam a morar juntos. Porém logo surge um problema em suas vidas: Dupree (Owen Wilson)\, o melhor amigo de Carl\, que foi demitido recentemente e não tem para onde ir. Querendo ajudar o amigo\, Carl o convida a passar alguns dias em sua nova casa\, até que ele consiga um novo emprego. Porém o tempo passa\, Dupree não consegue emprego e seus hábitos passam a incomodar cada vez mais os recém-casados. Para completar há ainda o pai de Molly\, que não vê com bons olhos o casamento deles e tenta de todas as formas diminuir Carl.  \nEstão à disposição dos nossos sócios uma centena de filmes nacionais que podem ser vistos em nossa Biblioteca do 22º andar.Basta agendar por telefone 2178-9269 ou 2178-9263\, de segunda a sexta-feira\, no horário das 10h às 16h e o sócio poderá assistir na tela do computador da Biblioteca ou trazer seu próprio laptop.Acesse a lista completa: https://www.portalclubedeengenharia.org.br/info/centenas-de-filmes-brasileiros-disponiveis-para-os-socios \nPromoção da DIRETORIA DE ATIVIDADES CULTURAIS
URL:https://portalclubedeengenharia.org.br/evento/cinevideo-dois-e-bom-tres-e-demais/
ATTACH;FMTTYPE=image/jpeg:https://portalclubedeengenharia.org.br/wp-content/uploads/2024/07/1513878785.jpg
END:VEVENT
END:VCALENDAR