BEGIN:VCALENDAR
VERSION:2.0
PRODID:-//Clube de Engenharia - ECPv6.15.16//NONSGML v1.0//EN
CALSCALE:GREGORIAN
METHOD:PUBLISH
X-WR-CALNAME:Clube de Engenharia
X-ORIGINAL-URL:https://portalclubedeengenharia.org.br
X-WR-CALDESC:Eventos para Clube de Engenharia
REFRESH-INTERVAL;VALUE=DURATION:PT1H
X-Robots-Tag:noindex
X-PUBLISHED-TTL:PT1H
BEGIN:VTIMEZONE
TZID:America/Sao_Paulo
BEGIN:STANDARD
TZOFFSETFROM:-0200
TZOFFSETTO:-0300
TZNAME:-03
DTSTART:20150222T020000
END:STANDARD
BEGIN:DAYLIGHT
TZOFFSETFROM:-0300
TZOFFSETTO:-0200
TZNAME:-02
DTSTART:20151018T030000
END:DAYLIGHT
BEGIN:STANDARD
TZOFFSETFROM:-0200
TZOFFSETTO:-0300
TZNAME:-03
DTSTART:20160221T020000
END:STANDARD
BEGIN:DAYLIGHT
TZOFFSETFROM:-0300
TZOFFSETTO:-0200
TZNAME:-02
DTSTART:20161016T030000
END:DAYLIGHT
BEGIN:STANDARD
TZOFFSETFROM:-0200
TZOFFSETTO:-0300
TZNAME:-03
DTSTART:20170219T020000
END:STANDARD
BEGIN:DAYLIGHT
TZOFFSETFROM:-0300
TZOFFSETTO:-0200
TZNAME:-02
DTSTART:20171015T030000
END:DAYLIGHT
END:VTIMEZONE
BEGIN:VEVENT
DTSTART;TZID=America/Sao_Paulo:20160517T170000
DTEND;TZID=America/Sao_Paulo:20160517T191500
DTSTAMP:20260424T192300
CREATED:20160503T011200Z
LAST-MODIFIED:20240712T152128Z
UID:25857-1463504400-1463512500@portalclubedeengenharia.org.br
SUMMARY:Cinevídeo: Eles Não Usam Black-Tie
DESCRIPTION:O cinema do Clube de Engenharia recebe associados e seus convidados todas as terças-feiras\, às 17h\, no 19º andar. A pipoca é por nossa conta. \n17/05 \nEles Não Usam Black-Tie \nGênero: Drama \nDuração: 2h14min \nAno de Produção:  1981 \nDireção: Leon Hirszman \nAtores: Carlos Alberto Riccelli\, Bete Mendes\, Fernanda Montenegro \nEm São Paulo\, em 1980\, o jovem operário Tião (Carlos Alberto Riccelli) e sua namorada Maria (Bete Mendes) decidem casar-se ao saber que a moça está grávida. Ao mesmo tempo\, eclode um movimento grevista que divide a categoria metalúrgica. Preocupado com o casamento e temendo perder o emprego\, Tião fura a greve\, entrando em conflito com o pai\, Otávio (Gianfrancesco Guarnieri)\, um velho militante sindical que passou três anos na cadeia durante o regime militar
URL:https://portalclubedeengenharia.org.br/evento/cinevideo-eles-nao-usam-black-tie/
END:VEVENT
END:VCALENDAR