BEGIN:VCALENDAR
VERSION:2.0
PRODID:-//Clube de Engenharia - ECPv6.15.16//NONSGML v1.0//EN
CALSCALE:GREGORIAN
METHOD:PUBLISH
X-WR-CALNAME:Clube de Engenharia
X-ORIGINAL-URL:https://portalclubedeengenharia.org.br
X-WR-CALDESC:Eventos para Clube de Engenharia
REFRESH-INTERVAL;VALUE=DURATION:PT1H
X-Robots-Tag:noindex
X-PUBLISHED-TTL:PT1H
BEGIN:VTIMEZONE
TZID:America/Sao_Paulo
BEGIN:STANDARD
TZOFFSETFROM:-0200
TZOFFSETTO:-0300
TZNAME:-03
DTSTART:20140216T020000
END:STANDARD
BEGIN:DAYLIGHT
TZOFFSETFROM:-0300
TZOFFSETTO:-0200
TZNAME:-02
DTSTART:20141019T030000
END:DAYLIGHT
BEGIN:STANDARD
TZOFFSETFROM:-0200
TZOFFSETTO:-0300
TZNAME:-03
DTSTART:20150222T020000
END:STANDARD
BEGIN:DAYLIGHT
TZOFFSETFROM:-0300
TZOFFSETTO:-0200
TZNAME:-02
DTSTART:20151018T030000
END:DAYLIGHT
BEGIN:STANDARD
TZOFFSETFROM:-0200
TZOFFSETTO:-0300
TZNAME:-03
DTSTART:20160221T020000
END:STANDARD
BEGIN:DAYLIGHT
TZOFFSETFROM:-0300
TZOFFSETTO:-0200
TZNAME:-02
DTSTART:20161016T030000
END:DAYLIGHT
END:VTIMEZONE
BEGIN:VEVENT
DTSTART;TZID=America/Sao_Paulo:20150324T170000
DTEND;TZID=America/Sao_Paulo:20150324T170000
DTSTAMP:20260419T124930
CREATED:20150302T194100Z
LAST-MODIFIED:20240712T152009Z
UID:25548-1427216400-1427216400@portalclubedeengenharia.org.br
SUMMARY:Cinevídeo: Estamira
DESCRIPTION: Sinopse: Documentário nacional que coleciona prêmios ao redor do mundo\, entre eles\, os prêmios do júri oficial de melhor documentário tanto no Festival do Rio quanto na Mostra Internacional de Cinema de São Paulo\, ambos em 2004. O filme documenta a vida de uma senhora chamada Estamira que vive de catar restos em um lixão. Aos 63 anos\, ela sofre de sérios distúrbios mentais e trabalha há mais…    \nGênero: Nacional \nTempo de Duração: 115 (minutos ) \nAno de produção: 2005 \nDireção: Marcos Prado  \nAtores: Documentário
URL:https://portalclubedeengenharia.org.br/evento/cinevideo-estamira/
ATTACH;FMTTYPE=image/jpeg:https://portalclubedeengenharia.org.br/wp-content/uploads/2024/07/1425314610.jpg
END:VEVENT
END:VCALENDAR