BEGIN:VCALENDAR
VERSION:2.0
PRODID:-//Clube de Engenharia - ECPv6.15.16//NONSGML v1.0//EN
CALSCALE:GREGORIAN
METHOD:PUBLISH
X-WR-CALNAME:Clube de Engenharia
X-ORIGINAL-URL:https://portalclubedeengenharia.org.br
X-WR-CALDESC:Eventos para Clube de Engenharia
REFRESH-INTERVAL;VALUE=DURATION:PT1H
X-Robots-Tag:noindex
X-PUBLISHED-TTL:PT1H
BEGIN:VTIMEZONE
TZID:America/Sao_Paulo
BEGIN:STANDARD
TZOFFSETFROM:-0200
TZOFFSETTO:-0300
TZNAME:-03
DTSTART:20160221T020000
END:STANDARD
BEGIN:DAYLIGHT
TZOFFSETFROM:-0300
TZOFFSETTO:-0200
TZNAME:-02
DTSTART:20161016T030000
END:DAYLIGHT
BEGIN:STANDARD
TZOFFSETFROM:-0200
TZOFFSETTO:-0300
TZNAME:-03
DTSTART:20170219T020000
END:STANDARD
BEGIN:DAYLIGHT
TZOFFSETFROM:-0300
TZOFFSETTO:-0200
TZNAME:-02
DTSTART:20171015T030000
END:DAYLIGHT
BEGIN:STANDARD
TZOFFSETFROM:-0200
TZOFFSETTO:-0300
TZNAME:-03
DTSTART:20180218T020000
END:STANDARD
BEGIN:DAYLIGHT
TZOFFSETFROM:-0300
TZOFFSETTO:-0200
TZNAME:-02
DTSTART:20181104T030000
END:DAYLIGHT
END:VTIMEZONE
BEGIN:VEVENT
DTSTART;TZID=America/Sao_Paulo:20171003T170000
DTEND;TZID=America/Sao_Paulo:20171003T183600
DTSTAMP:20260420T213930
CREATED:20171003T014900Z
LAST-MODIFIED:20240712T152326Z
UID:26386-1507050000-1507055760@portalclubedeengenharia.org.br
SUMMARY:Cinevídeo: Manhattan
DESCRIPTION:O cinema do Clube de Engenharia recebe associados e seus convidados todas as terças-feiras\, às 17h\, no 19º andar. A pipoca é por nossa conta.Comédia é o tema de outubro\, que reflete a recente eleição\, pelos habitantes de  Nova York\, dos filmes ali produzidos\, que melhor simbolizam a cidade. \n03/10 \nManhattan \nDuração: 01h36min \nAno de Produção: Desconhecido \nGênero: Comédia Dramática\, Romance \nDireção: Woody Allen \nAtores: Woody Allen\, Diane Keaton\, Michael Murph  \nSinopse:Um escritor de meia-idade divorciado (Woody Allen) se sente em uma situação constrangedora quando sua ex-mulher decide viver com uma amiga e publicar um livro\, no qual revela assuntos muito particulares do relacionamento deles. Neste período ele está apaixonado por uma jovem de 17 anos (Mariel Hemingway)\, que corresponde a este amor. No entanto\, ele sente-se atraído por uma pessoa mais madura\, a amante do seu melhor amigo\, que é casado.  \nEstão à disposição dos nossos sócios uma centena de filmes nacionais que podem ser vistos em nossa Biblioteca do 22º andar.Basta agendar por telefone 2178-9269 ou 2178-9263\, de segunda a sexta-feira\, no horário das 10h às 16h e o sócio poderá assistir na tela do computador da Biblioteca ou trazer seu próprio laptop.Acesse a lista completa: https://www.portalclubedeengenharia.org.br/info/centenas-de-filmes-brasileiros-disponiveis-para-os-socios \nPromoção da DIRETORIA DE ATIVIDADES CULTURAIS
URL:https://portalclubedeengenharia.org.br/evento/cinevideo-manhattan/
ATTACH;FMTTYPE=image/jpeg:https://portalclubedeengenharia.org.br/wp-content/uploads/2024/07/1506984830.jpg
END:VEVENT
END:VCALENDAR