BEGIN:VCALENDAR
VERSION:2.0
PRODID:-//Clube de Engenharia - ECPv6.15.16//NONSGML v1.0//EN
CALSCALE:GREGORIAN
METHOD:PUBLISH
X-WR-CALNAME:Clube de Engenharia
X-ORIGINAL-URL:https://portalclubedeengenharia.org.br
X-WR-CALDESC:Eventos para Clube de Engenharia
REFRESH-INTERVAL;VALUE=DURATION:PT1H
X-Robots-Tag:noindex
X-PUBLISHED-TTL:PT1H
BEGIN:VTIMEZONE
TZID:America/Sao_Paulo
BEGIN:STANDARD
TZOFFSETFROM:-0200
TZOFFSETTO:-0300
TZNAME:-03
DTSTART:20120226T020000
END:STANDARD
BEGIN:DAYLIGHT
TZOFFSETFROM:-0300
TZOFFSETTO:-0200
TZNAME:-02
DTSTART:20121021T030000
END:DAYLIGHT
BEGIN:STANDARD
TZOFFSETFROM:-0200
TZOFFSETTO:-0300
TZNAME:-03
DTSTART:20130217T020000
END:STANDARD
BEGIN:DAYLIGHT
TZOFFSETFROM:-0300
TZOFFSETTO:-0200
TZNAME:-02
DTSTART:20131020T030000
END:DAYLIGHT
BEGIN:STANDARD
TZOFFSETFROM:-0200
TZOFFSETTO:-0300
TZNAME:-03
DTSTART:20140216T020000
END:STANDARD
BEGIN:DAYLIGHT
TZOFFSETFROM:-0300
TZOFFSETTO:-0200
TZNAME:-02
DTSTART:20141019T030000
END:DAYLIGHT
END:VTIMEZONE
BEGIN:VEVENT
DTSTART;TZID=America/Sao_Paulo:20130129T170000
DTEND;TZID=America/Sao_Paulo:20130129T193000
DTSTAMP:20260421T113839
CREATED:20130114T182400Z
LAST-MODIFIED:20240712T151823Z
UID:25200-1359478800-1359487800@portalclubedeengenharia.org.br
SUMMARY:Cinevídeo: O Espetacular Homem Aranha
DESCRIPTION:19° andar – 17h – 29/01/13 \nSinopse: Peter Parker (Andrew Garfield) é um rapaz tímido e estudioso\, que inicou há pouco tempo um namoro com a bela Gwen Stacy (Emma Stone)\, sua colega de colégio. Ele vive com os tios\, May (Sally Field) e Ben (Martin Sheen)\, desde que foi deixado pelos pais\, Richard (Campbell Scott) e Mary (Embeth Davidtz). Certo dia\, o jovem encontra uma misteriosa maleta que pertenceu a seu pai. O artefato faz com que visite o laboratório do dr. Curt Connors (Rhys Ifans) na Oscorp. Parker está em busca de respostas sobre o que aconteceu com os pais\, só que acaba entrando em rota de colisão com o perigoso alter-ego de Connors\, o vilão Lagarto. \nGênero: Ação\, Fantasia\, Aventura  \nTempo de Duração: 2h e 16 min   \nAno de produção: 2012   \nDireção: Marc Webb  \nAtores: Andrew Garfield\, Emma Stone\, Rhys Ifans\, Denis Leary\, Campbell Scott Michael\, Irrfan Khan\,Martin Sheen\, SallyFuld
URL:https://portalclubedeengenharia.org.br/evento/cinevideo-o-espetacular-homem-aranha/
END:VEVENT
END:VCALENDAR