BEGIN:VCALENDAR
VERSION:2.0
PRODID:-//Clube de Engenharia - ECPv6.15.16//NONSGML v1.0//EN
CALSCALE:GREGORIAN
METHOD:PUBLISH
X-WR-CALNAME:Clube de Engenharia
X-ORIGINAL-URL:https://portalclubedeengenharia.org.br
X-WR-CALDESC:Eventos para Clube de Engenharia
REFRESH-INTERVAL;VALUE=DURATION:PT1H
X-Robots-Tag:noindex
X-PUBLISHED-TTL:PT1H
BEGIN:VTIMEZONE
TZID:America/Sao_Paulo
BEGIN:STANDARD
TZOFFSETFROM:-0200
TZOFFSETTO:-0300
TZNAME:-03
DTSTART:20150222T020000
END:STANDARD
BEGIN:DAYLIGHT
TZOFFSETFROM:-0300
TZOFFSETTO:-0200
TZNAME:-02
DTSTART:20151018T030000
END:DAYLIGHT
BEGIN:STANDARD
TZOFFSETFROM:-0200
TZOFFSETTO:-0300
TZNAME:-03
DTSTART:20160221T020000
END:STANDARD
BEGIN:DAYLIGHT
TZOFFSETFROM:-0300
TZOFFSETTO:-0200
TZNAME:-02
DTSTART:20161016T030000
END:DAYLIGHT
BEGIN:STANDARD
TZOFFSETFROM:-0200
TZOFFSETTO:-0300
TZNAME:-03
DTSTART:20170219T020000
END:STANDARD
BEGIN:DAYLIGHT
TZOFFSETFROM:-0300
TZOFFSETTO:-0200
TZNAME:-02
DTSTART:20171015T030000
END:DAYLIGHT
END:VTIMEZONE
BEGIN:VEVENT
DTSTART;TZID=America/Sao_Paulo:20160412T170000
DTEND;TZID=America/Sao_Paulo:20160412T184000
DTSTAMP:20260424T173628
CREATED:20160407T220800Z
LAST-MODIFIED:20240712T152122Z
UID:25832-1460480400-1460486400@portalclubedeengenharia.org.br
SUMMARY:Cinevídeo: O Planeta Proibido
DESCRIPTION:O cinema do Clube de Engenharia recebe associados e seus convidados todas as terças-feiras\, às 17:00\, no 19º andar. A pipoca é por nossa conta. \n05/04 \nO Planeta ProibidoBaseado na peça A Tempestade\, de Shakespeare \nGênero: Ficção Científica\, Ação\, Aventura \nDuração: 98 min \nAno de Produção: 1957 \nDireção:  Fred M. Wilcox \nAtores: Walter Pidgeon\, Anne Francis\, Leslie Nelsen
URL:https://portalclubedeengenharia.org.br/evento/cinevideo-o-planeta-proibido/
END:VEVENT
END:VCALENDAR