BEGIN:VCALENDAR
VERSION:2.0
PRODID:-//Clube de Engenharia - ECPv6.15.16//NONSGML v1.0//EN
CALSCALE:GREGORIAN
METHOD:PUBLISH
X-WR-CALNAME:Clube de Engenharia
X-ORIGINAL-URL:https://portalclubedeengenharia.org.br
X-WR-CALDESC:Eventos para Clube de Engenharia
REFRESH-INTERVAL;VALUE=DURATION:PT1H
X-Robots-Tag:noindex
X-PUBLISHED-TTL:PT1H
BEGIN:VTIMEZONE
TZID:America/Sao_Paulo
BEGIN:STANDARD
TZOFFSETFROM:-0200
TZOFFSETTO:-0300
TZNAME:-03
DTSTART:20110220T020000
END:STANDARD
BEGIN:DAYLIGHT
TZOFFSETFROM:-0300
TZOFFSETTO:-0200
TZNAME:-02
DTSTART:20111016T030000
END:DAYLIGHT
BEGIN:STANDARD
TZOFFSETFROM:-0200
TZOFFSETTO:-0300
TZNAME:-03
DTSTART:20120226T020000
END:STANDARD
BEGIN:DAYLIGHT
TZOFFSETFROM:-0300
TZOFFSETTO:-0200
TZNAME:-02
DTSTART:20121021T030000
END:DAYLIGHT
BEGIN:STANDARD
TZOFFSETFROM:-0200
TZOFFSETTO:-0300
TZNAME:-03
DTSTART:20130217T020000
END:STANDARD
BEGIN:DAYLIGHT
TZOFFSETFROM:-0300
TZOFFSETTO:-0200
TZNAME:-02
DTSTART:20131020T030000
END:DAYLIGHT
END:VTIMEZONE
BEGIN:VEVENT
DTSTART;TZID=America/Sao_Paulo:20121211T170000
DTEND;TZID=America/Sao_Paulo:20121211T193000
DTSTAMP:20260421T070358
CREATED:20121130T203600Z
LAST-MODIFIED:20240712T151819Z
UID:25188-1355245200-1355254200@portalclubedeengenharia.org.br
SUMMARY:Cinevídeo: O Príncipe do Deserto
DESCRIPTION:11/12 – 19° andar – 17h \nSinopse: \nAmbientado na década de 1930\, nos Emirados Árabes\, o filme aborda a descoberta do petróleo no Oriente Médio por meio da história de um jovem príncipe árabe\, interpretado por Tahar Rahim (O Profeta). Ele fica dividido entre manter-se leal a seu pai (Mark Strong)\, um homem conservador\, ou a seu sogro (Antonio Banderas\, A Pele que Habito)\, mais moderno e liberal. \nGênero: Ação   \nTempo de Duração: 130 (minutos)   \nAno de produção: 2011 \nDireção:  Jean-Jacques Annaud.   \nAtores: Antonio Banderas\, Mark Strong e Freida Pinto
URL:https://portalclubedeengenharia.org.br/evento/cinevideo-o-principe-do-deserto/
END:VEVENT
END:VCALENDAR