BEGIN:VCALENDAR
VERSION:2.0
PRODID:-//Clube de Engenharia - ECPv6.15.16//NONSGML v1.0//EN
CALSCALE:GREGORIAN
METHOD:PUBLISH
X-WR-CALNAME:Clube de Engenharia
X-ORIGINAL-URL:https://portalclubedeengenharia.org.br
X-WR-CALDESC:Eventos para Clube de Engenharia
REFRESH-INTERVAL;VALUE=DURATION:PT1H
X-Robots-Tag:noindex
X-PUBLISHED-TTL:PT1H
BEGIN:VTIMEZONE
TZID:America/Sao_Paulo
BEGIN:STANDARD
TZOFFSETFROM:-0200
TZOFFSETTO:-0300
TZNAME:-03
DTSTART:20160221T020000
END:STANDARD
BEGIN:DAYLIGHT
TZOFFSETFROM:-0300
TZOFFSETTO:-0200
TZNAME:-02
DTSTART:20161016T030000
END:DAYLIGHT
BEGIN:STANDARD
TZOFFSETFROM:-0200
TZOFFSETTO:-0300
TZNAME:-03
DTSTART:20170219T020000
END:STANDARD
BEGIN:DAYLIGHT
TZOFFSETFROM:-0300
TZOFFSETTO:-0200
TZNAME:-02
DTSTART:20171015T030000
END:DAYLIGHT
BEGIN:STANDARD
TZOFFSETFROM:-0200
TZOFFSETTO:-0300
TZNAME:-03
DTSTART:20180218T020000
END:STANDARD
BEGIN:DAYLIGHT
TZOFFSETFROM:-0300
TZOFFSETTO:-0200
TZNAME:-02
DTSTART:20181104T030000
END:DAYLIGHT
END:VTIMEZONE
BEGIN:VEVENT
DTSTART;TZID=America/Sao_Paulo:20170411T170000
DTEND;TZID=America/Sao_Paulo:20170411T194000
DTSTAMP:20260420T024023
CREATED:20170404T210200Z
LAST-MODIFIED:20240712T152230Z
UID:26130-1491930000-1491939600@portalclubedeengenharia.org.br
SUMMARY:Cinevídeo: Os Canhões de Navarone
DESCRIPTION:O cinema do Clube de Engenharia recebe associados e seus convidados  todas as terças-feiras\, às 17h\, no 19º andar. A pipoca é por nossa  conta. \nNo mês de abril de 1945 terminou a II Guerra Mundial\,  paralelo à terrível mortandade ocorreu um extraordinário desenvolvimento  tecnológico bélico. O Cine Vídeo exibe neste mês filmes notáveis sobre  esta Guerra Mundial. \n11/04 \nOs Canhões de Navarone \nDuração: 2h38min \nAno de Produção: 1961 \nGênero: Aventura\, Ação\, Drama \nDireção: Jack Lee Thompson\, Alexander Mackendrick \nAtores:  Gregory Peck\, David Niven\, Anthony Quinn  \nSinopse:Grécia\, 1943. Dois mil soldados britânicos perderam-se em Kheros. Exaustos e indefesos\, eles têm apenas uma semana para partir\, pois em Berlim o supremo comando do eixo determinara fazer uma demonstração de força no Mar Egeu\, para fazer a Turquia entrar na guerra do seu lado. A demonstração seria em Kheros\, sem valor militar\, mas próximo à costa da Turquia. O melhor armamento alemão seria usado e assim os britânicos seriam facilmente dominados\, a não ser que pudessem fugir antes. Porém a única rota de fuga possível estava bloqueada\, pois dois canhões enormes controlados por um radar estavam em Navarone\, uma ilha vizinha. Assim\, um grupo aliado tem a quase impossível missão de escalar uma parede de rocha em Navarone e invadir uma fortaleza nazista\, onde estão os canhões\, que se não forem destruídos vão afundar diversos navios aliados\, pondo um fim na tentativa de resgatar os soldados britânicos. \n  \nEstão à disposição dos nossos sócios uma centena de filmes nacionais que podem ser vistos em nossa Biblioteca do 22º andar. \nBasta  agendar por telefone (2178-9269 ou 2178-9263)\, de segunda a  sexta-feira\, no horário das 10h às 16h e o sócio poderá assistir na tela  do computador da Biblioteca ou trazer seu próprio laptop.Acesse a lista completa: https://www.portalclubedeengenharia.org.br/info/centenas-de-filmes-brasileiros-disponiveis-para-os-socios \nPromoção da DIRETORIA DE ATIVIDADES CULTURAIS
URL:https://portalclubedeengenharia.org.br/evento/cinevideo-os-canhoes-de-navarone/
ATTACH;FMTTYPE=image/jpeg:https://portalclubedeengenharia.org.br/wp-content/uploads/2024/07/1491329373.jpg
END:VEVENT
END:VCALENDAR