BEGIN:VCALENDAR
VERSION:2.0
PRODID:-//Clube de Engenharia - ECPv6.15.16//NONSGML v1.0//EN
CALSCALE:GREGORIAN
METHOD:PUBLISH
X-WR-CALNAME:Clube de Engenharia
X-ORIGINAL-URL:https://portalclubedeengenharia.org.br
X-WR-CALDESC:Eventos para Clube de Engenharia
REFRESH-INTERVAL;VALUE=DURATION:PT1H
X-Robots-Tag:noindex
X-PUBLISHED-TTL:PT1H
BEGIN:VTIMEZONE
TZID:America/Sao_Paulo
BEGIN:STANDARD
TZOFFSETFROM:-0200
TZOFFSETTO:-0300
TZNAME:-03
DTSTART:20120226T020000
END:STANDARD
BEGIN:DAYLIGHT
TZOFFSETFROM:-0300
TZOFFSETTO:-0200
TZNAME:-02
DTSTART:20121021T030000
END:DAYLIGHT
BEGIN:STANDARD
TZOFFSETFROM:-0200
TZOFFSETTO:-0300
TZNAME:-03
DTSTART:20130217T020000
END:STANDARD
BEGIN:DAYLIGHT
TZOFFSETFROM:-0300
TZOFFSETTO:-0200
TZNAME:-02
DTSTART:20131020T030000
END:DAYLIGHT
BEGIN:STANDARD
TZOFFSETFROM:-0200
TZOFFSETTO:-0300
TZNAME:-03
DTSTART:20140216T020000
END:STANDARD
BEGIN:DAYLIGHT
TZOFFSETFROM:-0300
TZOFFSETTO:-0200
TZNAME:-02
DTSTART:20141019T030000
END:DAYLIGHT
END:VTIMEZONE
BEGIN:VEVENT
DTSTART;TZID=America/Sao_Paulo:20130115T170000
DTEND;TZID=America/Sao_Paulo:20130115T190000
DTSTAMP:20260419T124950
CREATED:20130110T200800Z
LAST-MODIFIED:20240712T151822Z
UID:25198-1358269200-1358276400@portalclubedeengenharia.org.br
SUMMARY:Cinevídeo: Um Divã Pra Dois
DESCRIPTION:19° andar – 17h – 15/01/13 \nSinopse: Com direção de David Frankel (O Diabo Veste Prada)\, Um Divã Para Dois traz Meryl Streep e Tommy Lee Jones como Kay e Arnold Soames\, um casal de meia idade que\, após 30 anos de casado\, resolve fazer um intensivo de uma semana de terapia para melhorar seu relacionamento. Porém\, eles acabam encontrando alguém que está bem pior: Dr. Bernie (Steve Carell)\, um terapeuta lunático vai virar a cabeça do casal. \nGênero:Comédia\, Drama\, Romance \nTempo de Duração: 100 (minutos)   \nAno de produção: 2012 \nDireção:  David Frankel   \nAtores: Meryl Streep\, Tommy Lee Jones\, Steve Carell e Elisabeth Shue  \n 
URL:https://portalclubedeengenharia.org.br/evento/cinevideo-um-diva-pra-dois/
END:VEVENT
END:VCALENDAR