BEGIN:VCALENDAR
VERSION:2.0
PRODID:-//Clube de Engenharia - ECPv6.15.16//NONSGML v1.0//EN
CALSCALE:GREGORIAN
METHOD:PUBLISH
X-WR-CALNAME:Clube de Engenharia
X-ORIGINAL-URL:https://portalclubedeengenharia.org.br
X-WR-CALDESC:Eventos para Clube de Engenharia
REFRESH-INTERVAL;VALUE=DURATION:PT1H
X-Robots-Tag:noindex
X-PUBLISHED-TTL:PT1H
BEGIN:VTIMEZONE
TZID:America/Sao_Paulo
BEGIN:STANDARD
TZOFFSETFROM:-0200
TZOFFSETTO:-0300
TZNAME:-03
DTSTART:20140216T020000
END:STANDARD
BEGIN:DAYLIGHT
TZOFFSETFROM:-0300
TZOFFSETTO:-0200
TZNAME:-02
DTSTART:20141019T030000
END:DAYLIGHT
BEGIN:STANDARD
TZOFFSETFROM:-0200
TZOFFSETTO:-0300
TZNAME:-03
DTSTART:20150222T020000
END:STANDARD
BEGIN:DAYLIGHT
TZOFFSETFROM:-0300
TZOFFSETTO:-0200
TZNAME:-02
DTSTART:20151018T030000
END:DAYLIGHT
BEGIN:STANDARD
TZOFFSETFROM:-0200
TZOFFSETTO:-0300
TZNAME:-03
DTSTART:20160221T020000
END:STANDARD
BEGIN:DAYLIGHT
TZOFFSETFROM:-0300
TZOFFSETTO:-0200
TZNAME:-02
DTSTART:20161016T030000
END:DAYLIGHT
END:VTIMEZONE
BEGIN:VEVENT
DTSTART;TZID=America/Sao_Paulo:20151117T170000
DTEND;TZID=America/Sao_Paulo:20151117T190000
DTSTAMP:20260424T075544
CREATED:20151105T215900Z
LAST-MODIFIED:20240712T152054Z
UID:25716-1447779600-1447786800@portalclubedeengenharia.org.br
SUMMARY:Cinevídeo: "Uma longa jornada"\, de George Tillman Jr.
DESCRIPTION:O cinema do Clube de Engenharia recebe associados e seus convidados todas as terças-feiras\, às 17:00\, no 19º andar. A pipoca é por nossa conta. \nUMA LONGA JORNADA \n\n\n\n\nDirigido por \n\n\nGeorge Tillman Jr. \n\n\n\n\nCom \n\n\nBritt Robertson\, Scott Eastwood\, Alan Alda mais \n\n\n\n\nGênero \n\n\nDrama \, Romance \n\n\n\n\nSinopse: Aos 91 anos\, com a saúde debilitada e sozinho no mundo\, Ira Levinson (Alan Alda) sofre um acidente de carro e se vê abandonado em um lugar isolado. Ele luta para manter a consciência e passa a ver sua amada esposa Ruth (Oona Chaplin)\, que faleceu há nove anos. A poucos quilômetros de distância\, a bela Sophia Danko (Britt Robertson) conhece o jovem cowboy Luke (Scott Eastwood)\, que a apresenta a um mundo de aventuras e riscos. De forma inesperada\, os dois casais vão ter suas vidas cruzadas. \n 
URL:https://portalclubedeengenharia.org.br/evento/cinevideo-uma-longa-jornada-de-george-tillman-jr/
END:VEVENT
END:VCALENDAR