BEGIN:VCALENDAR
VERSION:2.0
PRODID:-//Clube de Engenharia - ECPv6.15.16//NONSGML v1.0//EN
CALSCALE:GREGORIAN
METHOD:PUBLISH
X-WR-CALNAME:Clube de Engenharia
X-ORIGINAL-URL:https://portalclubedeengenharia.org.br
X-WR-CALDESC:Eventos para Clube de Engenharia
REFRESH-INTERVAL;VALUE=DURATION:PT1H
X-Robots-Tag:noindex
X-PUBLISHED-TTL:PT1H
BEGIN:VTIMEZONE
TZID:America/Sao_Paulo
BEGIN:STANDARD
TZOFFSETFROM:-0200
TZOFFSETTO:-0300
TZNAME:-03
DTSTART:20160221T020000
END:STANDARD
BEGIN:DAYLIGHT
TZOFFSETFROM:-0300
TZOFFSETTO:-0200
TZNAME:-02
DTSTART:20161016T030000
END:DAYLIGHT
BEGIN:STANDARD
TZOFFSETFROM:-0200
TZOFFSETTO:-0300
TZNAME:-03
DTSTART:20170219T020000
END:STANDARD
BEGIN:DAYLIGHT
TZOFFSETFROM:-0300
TZOFFSETTO:-0200
TZNAME:-02
DTSTART:20171015T030000
END:DAYLIGHT
BEGIN:STANDARD
TZOFFSETFROM:-0200
TZOFFSETTO:-0300
TZNAME:-03
DTSTART:20180218T020000
END:STANDARD
BEGIN:DAYLIGHT
TZOFFSETFROM:-0300
TZOFFSETTO:-0200
TZNAME:-02
DTSTART:20181104T030000
END:DAYLIGHT
END:VTIMEZONE
BEGIN:VEVENT
DTSTART;TZID=America/Sao_Paulo:20170404T200000
DTEND;TZID=America/Sao_Paulo:20170404T200000
DTSTAMP:20260424T073703
CREATED:20170310T223500Z
LAST-MODIFIED:20240712T152223Z
UID:26091-1491336000-1491336000@portalclubedeengenharia.org.br
SUMMARY:Curso: utilização do guia de diretrizes para projeto de barragens e revisão periódica
DESCRIPTION:Utilização do guia de diretrizes para a elaboração de projeto de barragens e revisão periódica \n  \n(Manuais do Empreendedor – Volumes III e V) \nAcordo de cooperação técnica: CBDB/ANA \nPúblico alvoO curso é indicado para profissionais com nível superior na área de engenharia civil\, envolvidos em projetos\, execução\, operação\, manutenção e segurança de barragens e canais.Turma única50 participantesProfessores:Engº Carlos Henrique MedeirosEngº Ricardo Aguiar MagalhãesEngº Francisco AndrioloEngº João Francisco SilveiraEngº Erton CarvalhoCarga horária: 20h \nData: 04 a 06 de abril de 2017 \nInscriçõesLimite para inscrições até 24 de março de 2017. Sujeito a disponibilidade de vagas.  \nValor do curso:Sócios do CDBD: R$ 950\,00Sócios do Clube de Engenharia: R$ 950\,00Não sócios: R$ 1.250\,00Promoção: Comitê Brasileiro de Barragens \nInformações e inscrições:Vitor Codeço – (21) 2528-5959vitor@CBDB.org.br
URL:https://portalclubedeengenharia.org.br/evento/curso-utilizacao-do-guia-de-diretrizes-para-projeto-de-barragens-e-revisao-periodica/
ATTACH;FMTTYPE=image/jpeg:https://portalclubedeengenharia.org.br/wp-content/uploads/2024/07/1489174974.jpg
END:VEVENT
END:VCALENDAR