BEGIN:VCALENDAR
VERSION:2.0
PRODID:-//Clube de Engenharia - ECPv6.15.16//NONSGML v1.0//EN
CALSCALE:GREGORIAN
METHOD:PUBLISH
X-WR-CALNAME:Clube de Engenharia
X-ORIGINAL-URL:https://portalclubedeengenharia.org.br
X-WR-CALDESC:Eventos para Clube de Engenharia
REFRESH-INTERVAL;VALUE=DURATION:PT1H
X-Robots-Tag:noindex
X-PUBLISHED-TTL:PT1H
BEGIN:VTIMEZONE
TZID:America/Sao_Paulo
BEGIN:STANDARD
TZOFFSETFROM:-0200
TZOFFSETTO:-0300
TZNAME:-03
DTSTART:20160221T020000
END:STANDARD
BEGIN:DAYLIGHT
TZOFFSETFROM:-0300
TZOFFSETTO:-0200
TZNAME:-02
DTSTART:20161016T030000
END:DAYLIGHT
BEGIN:STANDARD
TZOFFSETFROM:-0200
TZOFFSETTO:-0300
TZNAME:-03
DTSTART:20170219T020000
END:STANDARD
BEGIN:DAYLIGHT
TZOFFSETFROM:-0300
TZOFFSETTO:-0200
TZNAME:-02
DTSTART:20171015T030000
END:DAYLIGHT
BEGIN:STANDARD
TZOFFSETFROM:-0200
TZOFFSETTO:-0300
TZNAME:-03
DTSTART:20180218T020000
END:STANDARD
BEGIN:DAYLIGHT
TZOFFSETFROM:-0300
TZOFFSETTO:-0200
TZNAME:-02
DTSTART:20181104T030000
END:DAYLIGHT
END:VTIMEZONE
BEGIN:VEVENT
DTSTART;TZID=America/Sao_Paulo:20170210T130000
DTEND;TZID=America/Sao_Paulo:20170228T200000
DTSTAMP:20260426T011900
CREATED:20170214T194400Z
LAST-MODIFIED:20240712T152113Z
UID:25788-1486731600-1488312000@portalclubedeengenharia.org.br
SUMMARY:Cursos com descontos para associados - Fevereiro 2017
DESCRIPTION:Universidade Cândido Mendes\nPós graduação – Engenharia de Segurança do Trabalho / Gerenciamento de Projetos / Engenharia Ambiental\nUCAM – Araruama\, Friburgo\, Tijuca\, Jacarepaguá e Clube de Engenharia (Centro)Desconto de 50% nas mensalidades para associados do Clube de Engenharia(21) 2189-8499 ou pelo email: eduardo.posucam@gmail.com\n\nINBECRioEspecialização em Engenharia de Sistemas Prediais – 400h / Especialização em Engenharia de Saneamento Básico e Ambiental – 400h / Especialização em Engenharia Diagnóstica: Patologia e Perícias na construção civil – 460h / Especialização em Estruturas Metálicas – Projeto e Detalhes Construtivos – 480h / Especialização em Estruturas de Concreto e Fundações – 480hMaiores informações: https://www.inbec.com.br/pos-graduacao/especializacao-em-estruturas-de-concreto-e-fundacoes – (021) 39895337 / 994829009 / 999694447\nInstituto de Pós-Graduação & Graduação – IPOG – Auditoria\, Avaliações e Perícias de Engenharia – 480h/ahttp://www.ipog.edu.br/curso/engenharia-arquitetura/auditoria-avaliacoes-e-pericias-de-engenhariaOferece aos associados e dependentes o desconto de 23% sobre o valor dos cursoshttp://www.ipog.edu.br/11\nUNISOCIESCCursos de Pós-Graduação nas Áreas de Engenharia Civil\, Elétrica\, Suprimentos\, de Produção\, Metalúrgica\, da Qualidade e de Plásticos Artísticos\, na modalidade EAD – Ensino á  distância\, essenciais à  complementação de sua formação profissional. Descontos de 10% a 15%
URL:https://portalclubedeengenharia.org.br/evento/cursos-com-descontos-para-associados-fevereiro-2017/
END:VEVENT
END:VCALENDAR