BEGIN:VCALENDAR
VERSION:2.0
PRODID:-//Clube de Engenharia - ECPv6.15.16//NONSGML v1.0//EN
CALSCALE:GREGORIAN
METHOD:PUBLISH
X-WR-CALNAME:Clube de Engenharia
X-ORIGINAL-URL:https://portalclubedeengenharia.org.br
X-WR-CALDESC:Eventos para Clube de Engenharia
REFRESH-INTERVAL;VALUE=DURATION:PT1H
X-Robots-Tag:noindex
X-PUBLISHED-TTL:PT1H
BEGIN:VTIMEZONE
TZID:America/Sao_Paulo
BEGIN:STANDARD
TZOFFSETFROM:-0200
TZOFFSETTO:-0300
TZNAME:-03
DTSTART:20160221T020000
END:STANDARD
BEGIN:DAYLIGHT
TZOFFSETFROM:-0300
TZOFFSETTO:-0200
TZNAME:-02
DTSTART:20161016T030000
END:DAYLIGHT
BEGIN:STANDARD
TZOFFSETFROM:-0200
TZOFFSETTO:-0300
TZNAME:-03
DTSTART:20170219T020000
END:STANDARD
BEGIN:DAYLIGHT
TZOFFSETFROM:-0300
TZOFFSETTO:-0200
TZNAME:-02
DTSTART:20171015T030000
END:DAYLIGHT
BEGIN:STANDARD
TZOFFSETFROM:-0200
TZOFFSETTO:-0300
TZNAME:-03
DTSTART:20180218T020000
END:STANDARD
BEGIN:DAYLIGHT
TZOFFSETFROM:-0300
TZOFFSETTO:-0200
TZNAME:-02
DTSTART:20181104T030000
END:DAYLIGHT
END:VTIMEZONE
BEGIN:VEVENT
DTSTART;TZID=America/Sao_Paulo:20171001T200000
DTEND;TZID=America/Sao_Paulo:20171031T220000
DTSTAMP:20260420T174324
CREATED:20171003T214200Z
LAST-MODIFIED:20240712T152328Z
UID:26401-1506888000-1509487200@portalclubedeengenharia.org.br
SUMMARY:Cursos com descontos para associados - Outubro 2017
DESCRIPTION:INBECRioEstruturas de concreto e fundações – 400h Especialização em engenheria diagnóstica – Patologia e Perícias na Construção Civil – 400hEngenharia de Sistemas e Instalações Prediais – 400hMBA em Plataforma BIM – Modelagem 3D\, Planejamento 4D e orçamento 5D/6D/7D – 400h \nMaiores informações: https://www.inbec.com.br/rj \nUniversidade Cândido MendesPÓS GRADUAÇÃO –  Engenharia de Segurança do Trabalho / Gerenciamento de Projetos / Engenharia AmbientalUCAM – Araruama\, Friburgo\, Tijuca\, Jacarepaguá e Clube de Engenharia (centro)Desconto de 50% nas mensalidades para associados do Clube de Engenharia.Contato no telefone (21) 2189-8499 ou pelo email: eduardo.posucam@gmail.com \nInstituto de Pós-Graduação & Graduação – IPOG – Auditoria\, Avaliações e Perícias de Engenharia – 480h/aOferece aos associados e dependentes o desconto de 23% sobre o valor dos cursosMais informações: https://www.ipog.edu.br/curso/engenharia-arquitetura/auditoria-avaliacoes–pericias-de-engenharia \nUNISOCIESCCursos de Pós-Graduação nas Áreas de    Engenharia Civil\, Elétrica\, Suprimentos\, de Produção\, Metalúrgica\, da    Qualidade e de Plásticos Artísticos\, na modalidade EAD – Ensino à    distância\, essenciais à complementação de sua formação profissional. Descontos de 10% a 15%. \nArquitetura Legal – Módulo VO curso de Arquitetura Legal\,    promovido pela Escola de Arquitetura Legal\, é composto de cinco módulos    capazes de habilitar os profissionais a lidar com questões como a    licença de obras; revisão de IPTU; registro; parcelamento do solo; e    atuação com assistência técnica em áreas especiais. Conheça o conteúdo    programático do curso aqui.ValoresCurso completo: R$ 1700\,00Módulo avulso: R$ 400\,00Sócios do Clube de Engenharia têm desconto de 10%.Pagamento por boleto ou Cartão de Crédito (PagSeguro\, parcelado em até 18 vezes)Inscrições pelo site escoladearquitetura.wixsite.com/arquiteturalegal e pelo e-mail escola@arquiteturalegal.arq.brDatas: 03/06\, 15/07\, 19/08\, 16/09 e 21/10.Local: 21º andar do Clube de EngenhariaAv. Rio Branco\, 124 – Metrô Estação Carioca \nCurso preparatório para futuros concursos da CVMInício em 30/09Os associados e familiares do Clube de Engenharia e familiares terão 10% (dez por cento) de desconto.Mais informações aqui. \nCurso MATEMÁTICA FINANCEIRA COM A CALCULADORA HP12C E EXCELInício em 21/10Certificação do CREA para todos os participantesDatas: 21/10\, 28/10\, 11/11 e 18/11/2017 (sábados)Horário: 8h às 14h Local: Rua Buenos Aires 90\, 5º andar\, Centro\, RJ.Professor: Miguel BahuryInscrições: (e-mail: bahury@globo.com  ou  site: www.cursosmiguelbahury.com.br)Investimento: R$ 840\,00 (Oitocentos e quarenta reais)\, que poderão ser pagos à vista ou em até 12 parcelas pelo cartão de crédito através do sistema PagSeguro da UOL Os associados do Clube de Engenharia e familiares terão 10% (dez por cento) de desconto no curso que poderá ser pago em até 12 parcelas pelo cartão de crédito através do sistema PagSeguro da UOL. Os interessados devem enviar mensagem para bahury@globo.com\, manifestando intenção de participar do curso.   Mais informações aqui.
URL:https://portalclubedeengenharia.org.br/evento/cursos-com-descontos-para-associados-outubro-2017/
END:VEVENT
END:VCALENDAR