BEGIN:VCALENDAR
VERSION:2.0
PRODID:-//Clube de Engenharia - ECPv6.15.16//NONSGML v1.0//EN
CALSCALE:GREGORIAN
METHOD:PUBLISH
X-WR-CALNAME:Clube de Engenharia
X-ORIGINAL-URL:https://portalclubedeengenharia.org.br
X-WR-CALDESC:Eventos para Clube de Engenharia
REFRESH-INTERVAL;VALUE=DURATION:PT1H
X-Robots-Tag:noindex
X-PUBLISHED-TTL:PT1H
BEGIN:VTIMEZONE
TZID:America/Sao_Paulo
BEGIN:STANDARD
TZOFFSETFROM:-0200
TZOFFSETTO:-0300
TZNAME:-03
DTSTART:20140216T020000
END:STANDARD
BEGIN:DAYLIGHT
TZOFFSETFROM:-0300
TZOFFSETTO:-0200
TZNAME:-02
DTSTART:20141019T030000
END:DAYLIGHT
BEGIN:STANDARD
TZOFFSETFROM:-0200
TZOFFSETTO:-0300
TZNAME:-03
DTSTART:20150222T020000
END:STANDARD
BEGIN:DAYLIGHT
TZOFFSETFROM:-0300
TZOFFSETTO:-0200
TZNAME:-02
DTSTART:20151018T030000
END:DAYLIGHT
BEGIN:STANDARD
TZOFFSETFROM:-0200
TZOFFSETTO:-0300
TZNAME:-03
DTSTART:20160221T020000
END:STANDARD
BEGIN:DAYLIGHT
TZOFFSETFROM:-0300
TZOFFSETTO:-0200
TZNAME:-02
DTSTART:20161016T030000
END:DAYLIGHT
END:VTIMEZONE
BEGIN:VEVENT
DTSTART;TZID=America/Sao_Paulo:20150912T143700
DTEND;TZID=America/Sao_Paulo:20150930T203000
DTSTAMP:20260424T043809
CREATED:20150912T203700Z
LAST-MODIFIED:20240712T152042Z
UID:25668-1442068620-1443645000@portalclubedeengenharia.org.br
SUMMARY:Cursos com descontos para associados
DESCRIPTION:ABCE – Associação Brasileira de Consultores de Engenharia \nSETEMBRO – Auditores Internos da ABNT NBR ISO 9001 / Sistema de Gestão de Segurança e Saúde – OHSAS 18001:2007 / Excel 2013 Avançado para profissionais de Administração\, Engenharia e Planejamento / Autovistoria e Inspeções Prediais / Project 2013 – Básico / Sistemas de Informações Geográficas: Gestão e Manipulação de Dados Georreferenciados / Introdução à Engenharia de Processos / Primavera – Básico / Primavera – Básico \nPara mais informações – entre em contato com Stella por telefone ou e-mail. \nTelefone: (21) 2215-1401 – http://www.abceconsultoria.org.br/cursos – E-mail: stella@abceconsultoria.org.br  \n  \nUniversidade Cândido Mendes \nO curso de Engenharia de Segurança do Trabalho da Universidade Cândido Mendes no Rio de Janeiro – 50% nas mensalidades \n(21) 2189-8499 ou pelo email: eduardo.posucam@gmail.com \n  \nINBECRio \nTurma II da Especialização em Arquitetura Hospitalar/Turma I da Especialização em Estruturas Metálicas – Projeto e Detalhes Construtivos – 400hS / Turma II da Especialização em Estruturas de Concreto e Fundações – 480hs \nEspecializações em Estruturas de Concreto e Fundações  MBA em Plataforma BIM \nMaiores informações: https://www.inbec.com.br/pos-graduacao/especializacao-em-estruturas-de-concreto-e-fundacoes – (021) 39895337 / 994829009 / 999694447 \n  \nInstituto de Pós-Graduação & Graduação (IPOG) \nOferece aos associados e dependentes o desconto de 23% sobre o valor dos cursos \nhttp://www.ipog.edu.br/  \n  \nA UNISOCIESC apresenta a V.Sa.\, os Cursos de Pós-Graduação nas Áreas de Engenharia Civil\, Elétrica\, Suprimentos\, de Produção\, Metalúrgica\, da Qualidade e de Plásticos Artísticos\, na modalidade EAD – Ensino á  distância\, essenciais à  complementação de sua formação profissional. Descontos de 10% a 15% \nMaiores informações: tels 36192664 e 9820046561 / jorgebitencourt2015@gmail.com \nOportunidades de Mercado e Convênios com descontos para associados \n  \nCurso de “Tubulações e Equipamentos” Associados e familiares terão 30% (dez por cento) de desconto – Estão abertas as inscrições para o curso de Tubulações e Equipamentos 2015. \nTendo como objetivo  conhecimento de materiais e especificações  aplicados a tubulações\, suportes\, e equipamentos aplicados a indústria de Petroleo e da área Industrial em geral\, suas aplicações e critérios de escolha. Incluindo conhecimentos dos equipamentos utilizados na indústria do petróleo nas etapas de tratamento primário (OFF-SHORE) e Refino (ON-SHORE) inclusive na indústria em geral. \nPalestrante: Jose Americo Moura da Silva\, Formação superior e Tecnica Industrial em Petroleo e 40 anos de atuação em grandes projetos de engenharia no segmento Petroleo e Industrial no Brasil e exterior. Professor no ensino técnico industrial. Pós em Docencia Superior. Carga Horária: 30 horas – Detalhes no site: www.promonsul.com.br \n  \nOportunidades de mercado para nossos associados e seus dependentes\, acesse (atualizado): \nhttps://portalclubedeengenharia.org.br/info/oportunidades-de-mercado/38  \n  \nDescontos para nossos associados e seus dependentes\, acesse (atualizado): \nhttps://www.portalclubedeengenharia.org.br/info/descontos-para-os-associados/40  \n 
URL:https://portalclubedeengenharia.org.br/evento/cursos-com-descontos-para-associados/
END:VEVENT
END:VCALENDAR