BEGIN:VCALENDAR
VERSION:2.0
PRODID:-//Clube de Engenharia - ECPv6.15.16//NONSGML v1.0//EN
CALSCALE:GREGORIAN
METHOD:PUBLISH
X-WR-CALNAME:Clube de Engenharia
X-ORIGINAL-URL:https://portalclubedeengenharia.org.br
X-WR-CALDESC:Eventos para Clube de Engenharia
REFRESH-INTERVAL;VALUE=DURATION:PT1H
X-Robots-Tag:noindex
X-PUBLISHED-TTL:PT1H
BEGIN:VTIMEZONE
TZID:America/Sao_Paulo
BEGIN:STANDARD
TZOFFSETFROM:-0200
TZOFFSETTO:-0300
TZNAME:-03
DTSTART:20150222T020000
END:STANDARD
BEGIN:DAYLIGHT
TZOFFSETFROM:-0300
TZOFFSETTO:-0200
TZNAME:-02
DTSTART:20151018T030000
END:DAYLIGHT
BEGIN:STANDARD
TZOFFSETFROM:-0200
TZOFFSETTO:-0300
TZNAME:-03
DTSTART:20160221T020000
END:STANDARD
BEGIN:DAYLIGHT
TZOFFSETFROM:-0300
TZOFFSETTO:-0200
TZNAME:-02
DTSTART:20161016T030000
END:DAYLIGHT
BEGIN:STANDARD
TZOFFSETFROM:-0200
TZOFFSETTO:-0300
TZNAME:-03
DTSTART:20170219T020000
END:STANDARD
BEGIN:DAYLIGHT
TZOFFSETFROM:-0300
TZOFFSETTO:-0200
TZNAME:-02
DTSTART:20171015T030000
END:DAYLIGHT
END:VTIMEZONE
BEGIN:VEVENT
DTSTART;TZID=America/Sao_Paulo:20160519T180000
DTEND;TZID=America/Sao_Paulo:20160519T200000
DTSTAMP:20260424T191227
CREATED:20160415T001300Z
LAST-MODIFIED:20240712T152124Z
UID:25839-1463680800-1463688000@portalclubedeengenharia.org.br
SUMMARY:Dos biocombustíveis à bioeconomia
DESCRIPTION:Dos biocombustíveis à bioeconomia: a dinâmica de inovação que está construindo a nova indústria baseada em biomassa \nPalestrante:José Vitor Bomtempo Martins – Professor da UFRJ \nPromoção:Diretoria de Atividades Técnicas (DAT)Divisão Técnica de Engenharia Química (DTEQ) \nServiço:Dia 19/05 às 18:00h22º andar do Clube de Engenharia Av. Rio Branco\, 124 – Metrô Estação CariocaO evento será transmitido pela Web TV
URL:https://portalclubedeengenharia.org.br/evento/dos-biocombustiveis-a-bioeconomia/
ATTACH;FMTTYPE=image/jpeg:https://portalclubedeengenharia.org.br/wp-content/uploads/2024/07/1463506797.jpg
END:VEVENT
END:VCALENDAR