BEGIN:VCALENDAR
VERSION:2.0
PRODID:-//Clube de Engenharia - ECPv6.15.16//NONSGML v1.0//EN
CALSCALE:GREGORIAN
METHOD:PUBLISH
X-WR-CALNAME:Clube de Engenharia
X-ORIGINAL-URL:https://portalclubedeengenharia.org.br
X-WR-CALDESC:Eventos para Clube de Engenharia
REFRESH-INTERVAL;VALUE=DURATION:PT1H
X-Robots-Tag:noindex
X-PUBLISHED-TTL:PT1H
BEGIN:VTIMEZONE
TZID:America/Sao_Paulo
BEGIN:STANDARD
TZOFFSETFROM:-0200
TZOFFSETTO:-0300
TZNAME:-03
DTSTART:20140216T020000
END:STANDARD
BEGIN:DAYLIGHT
TZOFFSETFROM:-0300
TZOFFSETTO:-0200
TZNAME:-02
DTSTART:20141019T030000
END:DAYLIGHT
BEGIN:STANDARD
TZOFFSETFROM:-0200
TZOFFSETTO:-0300
TZNAME:-03
DTSTART:20150222T020000
END:STANDARD
BEGIN:DAYLIGHT
TZOFFSETFROM:-0300
TZOFFSETTO:-0200
TZNAME:-02
DTSTART:20151018T030000
END:DAYLIGHT
BEGIN:STANDARD
TZOFFSETFROM:-0200
TZOFFSETTO:-0300
TZNAME:-03
DTSTART:20160221T020000
END:STANDARD
BEGIN:DAYLIGHT
TZOFFSETFROM:-0300
TZOFFSETTO:-0200
TZNAME:-02
DTSTART:20161016T030000
END:DAYLIGHT
END:VTIMEZONE
BEGIN:VEVENT
DTSTART;TZID=America/Sao_Paulo:20151118T210000
DTEND;TZID=America/Sao_Paulo:20151119T200000
DTSTAMP:20260424T075701
CREATED:20151002T191400Z
LAST-MODIFIED:20240712T152046Z
UID:25686-1447880400-1447963200@portalclubedeengenharia.org.br
SUMMARY:EmTech Brasil 2015 - Massachusetts Institute of Technology (MIT)
DESCRIPTION:A EmTech é a conferência anual de inovação e tecnologias emergentes do Massachusetts Institute of Technology (MIT). O espaço reúne ideias inovadoras\, empresas de grande projeção e renomados especialistas do setor\, “capazes de transformar a sociedade e a economia do futuro”. \nO evento acontece anualmente nos Estados Unidos e algumas edições em outros países: Espanha\, China\, Singapura\, México\, Colômbia e Equador. Organizado pelo MIT Technology Review no Brasil\, pela primeira vez será realizado em nosso país\, nos dias 18 e 19 de novembro\, no Palácio das Artes\, Rio de Janeiro. \nClique aqui para mais informações sobre os palestrantes e descontos para os associados do Clube de Engenharia. \nClique aqui para acessar o site do evento. \n 
URL:https://portalclubedeengenharia.org.br/evento/emtech-brasil-2015-massachusetts-institute-of-technology-mit/
END:VEVENT
END:VCALENDAR