BEGIN:VCALENDAR
VERSION:2.0
PRODID:-//Clube de Engenharia - ECPv6.15.16//NONSGML v1.0//EN
CALSCALE:GREGORIAN
METHOD:PUBLISH
X-WR-CALNAME:Clube de Engenharia
X-ORIGINAL-URL:https://portalclubedeengenharia.org.br
X-WR-CALDESC:Eventos para Clube de Engenharia
REFRESH-INTERVAL;VALUE=DURATION:PT1H
X-Robots-Tag:noindex
X-PUBLISHED-TTL:PT1H
BEGIN:VTIMEZONE
TZID:America/Sao_Paulo
BEGIN:STANDARD
TZOFFSETFROM:-0200
TZOFFSETTO:-0300
TZNAME:-03
DTSTART:20160221T020000
END:STANDARD
BEGIN:DAYLIGHT
TZOFFSETFROM:-0300
TZOFFSETTO:-0200
TZNAME:-02
DTSTART:20161016T030000
END:DAYLIGHT
BEGIN:STANDARD
TZOFFSETFROM:-0200
TZOFFSETTO:-0300
TZNAME:-03
DTSTART:20170219T020000
END:STANDARD
BEGIN:DAYLIGHT
TZOFFSETFROM:-0300
TZOFFSETTO:-0200
TZNAME:-02
DTSTART:20171015T030000
END:DAYLIGHT
BEGIN:STANDARD
TZOFFSETFROM:-0200
TZOFFSETTO:-0300
TZNAME:-03
DTSTART:20180218T020000
END:STANDARD
BEGIN:DAYLIGHT
TZOFFSETFROM:-0300
TZOFFSETTO:-0200
TZNAME:-02
DTSTART:20181104T030000
END:DAYLIGHT
END:VTIMEZONE
BEGIN:VEVENT
DTSTART;TZID=America/Sao_Paulo:20170309T170000
DTEND;TZID=America/Sao_Paulo:20170309T190000
DTSTAMP:20260422T041454
CREATED:20170222T202100Z
LAST-MODIFIED:20240712T152218Z
UID:26069-1489078800-1489086000@portalclubedeengenharia.org.br
SUMMARY:Encostas e taludes: problemas de estabilidade e formas de contenções
DESCRIPTION:Palestrante:Luis Edmundo CamposEngenheiro Civil e Professor Titular na Universidade Federal da Bahia (UFBA) \nResumo: Serão abordados\, nesta palestra técnica\, os principais problemas em encostas e de instabilidade de taludes\, com exemplos ocorridos em Salvador\, e as principais formas de estabilizações utilizadas. \nPromoção:Associação Brasileira de Mecânica dos Solos e Engenharia Geotécnica – ABMS – Núcleo Regional Rio de JaneiroClube de EngenhariaDiretoria de Atividades Técnicas – DATDivisão Técnica de Geotecnia – DTG \nApoio:Associação Brasileira de Geologia de Engenharia e Ambiental – ABGE – Núcleo Rio \nServiço:Dia 09/03 às 17h22º andar do Clube de Engenharia Av. Rio Branco\, 124 – Metrô Estação Carioca
URL:https://portalclubedeengenharia.org.br/evento/encostas-e-taludes-problemas-de-estabilidade-e-formas-de-contencoes/
ATTACH;FMTTYPE=image/jpeg:https://portalclubedeengenharia.org.br/wp-content/uploads/2024/07/1487965626.jpg
END:VEVENT
END:VCALENDAR