BEGIN:VCALENDAR
VERSION:2.0
PRODID:-//Clube de Engenharia - ECPv6.15.16//NONSGML v1.0//EN
CALSCALE:GREGORIAN
METHOD:PUBLISH
X-WR-CALNAME:Clube de Engenharia
X-ORIGINAL-URL:https://portalclubedeengenharia.org.br
X-WR-CALDESC:Eventos para Clube de Engenharia
REFRESH-INTERVAL;VALUE=DURATION:PT1H
X-Robots-Tag:noindex
X-PUBLISHED-TTL:PT1H
BEGIN:VTIMEZONE
TZID:America/Sao_Paulo
BEGIN:STANDARD
TZOFFSETFROM:-0200
TZOFFSETTO:-0300
TZNAME:-03
DTSTART:20150222T020000
END:STANDARD
BEGIN:DAYLIGHT
TZOFFSETFROM:-0300
TZOFFSETTO:-0200
TZNAME:-02
DTSTART:20151018T030000
END:DAYLIGHT
BEGIN:STANDARD
TZOFFSETFROM:-0200
TZOFFSETTO:-0300
TZNAME:-03
DTSTART:20160221T020000
END:STANDARD
BEGIN:DAYLIGHT
TZOFFSETFROM:-0300
TZOFFSETTO:-0200
TZNAME:-02
DTSTART:20161016T030000
END:DAYLIGHT
BEGIN:STANDARD
TZOFFSETFROM:-0200
TZOFFSETTO:-0300
TZNAME:-03
DTSTART:20170219T020000
END:STANDARD
BEGIN:DAYLIGHT
TZOFFSETFROM:-0300
TZOFFSETTO:-0200
TZNAME:-02
DTSTART:20171015T030000
END:DAYLIGHT
END:VTIMEZONE
BEGIN:VEVENT
DTSTART;TZID=America/Sao_Paulo:20161124T220000
DTEND;TZID=America/Sao_Paulo:20161124T220000
DTSTAMP:20260425T232832
CREATED:20161121T215900Z
LAST-MODIFIED:20240712T152209Z
UID:26030-1480024800-1480024800@portalclubedeengenharia.org.br
SUMMARY:Engenharia e Desenvolvimento
DESCRIPTION:Na próxima quinta-feira\, 24 de novembro\, o presidente do Clube de Engenharia\, Pedro Celestino\, profere palestra na Coppe sobre Engenharia e Desenvolvimento. Aberto ao público\, o evento será às 10 horas\, no auditório da Coppe\, Bloco G\, sala 122\, Centro de Tecnologia\, Cidade Universitária. \nServiço:Dia 24/11 às 10hAuditório da CoppeBloco G\, sala 122\, Centro de Tecnologia\, Cidade Universitária.
URL:https://portalclubedeengenharia.org.br/evento/engenharia-e-desenvolvimento/
END:VEVENT
END:VCALENDAR