BEGIN:VCALENDAR
VERSION:2.0
PRODID:-//Clube de Engenharia - ECPv6.15.16//NONSGML v1.0//EN
CALSCALE:GREGORIAN
METHOD:PUBLISH
X-WR-CALNAME:Clube de Engenharia
X-ORIGINAL-URL:https://portalclubedeengenharia.org.br
X-WR-CALDESC:Eventos para Clube de Engenharia
REFRESH-INTERVAL;VALUE=DURATION:PT1H
X-Robots-Tag:noindex
X-PUBLISHED-TTL:PT1H
BEGIN:VTIMEZONE
TZID:America/Sao_Paulo
BEGIN:STANDARD
TZOFFSETFROM:-0200
TZOFFSETTO:-0300
TZNAME:-03
DTSTART:20150222T020000
END:STANDARD
BEGIN:DAYLIGHT
TZOFFSETFROM:-0300
TZOFFSETTO:-0200
TZNAME:-02
DTSTART:20151018T030000
END:DAYLIGHT
BEGIN:STANDARD
TZOFFSETFROM:-0200
TZOFFSETTO:-0300
TZNAME:-03
DTSTART:20160221T020000
END:STANDARD
BEGIN:DAYLIGHT
TZOFFSETFROM:-0300
TZOFFSETTO:-0200
TZNAME:-02
DTSTART:20161016T030000
END:DAYLIGHT
BEGIN:STANDARD
TZOFFSETFROM:-0200
TZOFFSETTO:-0300
TZNAME:-03
DTSTART:20170219T020000
END:STANDARD
BEGIN:DAYLIGHT
TZOFFSETFROM:-0300
TZOFFSETTO:-0200
TZNAME:-02
DTSTART:20171015T030000
END:DAYLIGHT
END:VTIMEZONE
BEGIN:VEVENT
DTSTART;TZID=America/Sao_Paulo:20160722T163000
DTEND;TZID=America/Sao_Paulo:20160722T200000
DTSTAMP:20260424T041933
CREATED:20160720T002900Z
LAST-MODIFIED:20240712T152143Z
UID:25922-1469205000-1469217600@portalclubedeengenharia.org.br
SUMMARY:Engenheiras lançam animação sobre direitos trabalhistas
DESCRIPTION:No próximo dia 22/7\, o Coletivo de Mulheres da Fisenge irá lançar a animação “Lei é para ser cumprida”. A peça conta com a personagem Engenheira Eugênia\, que é protagonista de histórias em quadrinhos publicadas há mais de três anos pela Federação. De acordo com a diretora da mulher da Fisenge\, Simone Baía\, a animação tem o objetivo de afirmar a importância da organização sindical e do empoderamento dos direitos dos trabalhadores. “A comunicação é estratégica para a disputa de pensamento e de visão de mundo. Com esta compreensão\, nós\, do Coletivo de Mulheres\, temos apostado em instrumentos diversos e outras narrativas como quadrinhos\, animação e campanhas pedagógicas”\, disse Simone. \nDurante o lançamento\, haverá um debate sobre “Novas narrativas na luta pelos direitos das mulheres” com a jornalista e coordenadora do Núcleo Piratininga de Comunicação (NPC)\, Cláudia Santiago e a dirigente estadual da União Brasileira de Mulheres (UBM)\, Sonia Latgè\, com mediação de Simone Baía. A animação também integra as comemorações dos 50 anos da Lei 4.950-A/66\, que institui o Salário Mínimo Profissional de engenheiras e engenheiros. A peça foi produzida pelo Estúdio Zota com ilustrações de Pater. \nA atividade terá início\, às 16h30\, no dia 22/7\, na sede da Federação\, localizada na avenida Rio Branco\, 277\, 17º andar\, auditório\, Cinelândia\, no Rio de Janeiro. As inscrições são gratuitas e podem ser realizadas pelo e-mail: adm.raquel@fisenge.org.br \nA Fisenge \nCom representação nacional\, a Federação Interestadual de Sindicatos de Engenheiros (Fisenge) articula ações dos sindicatos filiados visando à consolidação de políticas públicas para o desenvolvimento nacional\, à valorização da engenharia brasileira e à construção de uma sociedade justa e igualitária. Criada em 1993\, com sede no Rio de Janeiro\, a Fisenge é constituída\, no total\, por 12 sindicatos de engenheiros\, em 11 estados: Bahia\, Espírito Santo\, Minas Gerais\, Paraná\, Paraíba\, Pernambuco\, Rio de Janeiro (incluindo Volta Redonda e o da capital)\, Rio Grande do Norte (exclusivamente de agrônomos)\, Rondônia\, Sergipe e Santa Catarina (exclusivamente de agrônomos).
URL:https://portalclubedeengenharia.org.br/evento/engenheiras-lancam-animacao-sobre-direitos-trabalhistas/
ATTACH;FMTTYPE=image/jpeg:https://portalclubedeengenharia.org.br/wp-content/uploads/2024/07/1468963857.jpg
END:VEVENT
END:VCALENDAR