BEGIN:VCALENDAR
VERSION:2.0
PRODID:-//Clube de Engenharia - ECPv6.15.16//NONSGML v1.0//EN
CALSCALE:GREGORIAN
METHOD:PUBLISH
X-WR-CALNAME:Clube de Engenharia
X-ORIGINAL-URL:https://portalclubedeengenharia.org.br
X-WR-CALDESC:Eventos para Clube de Engenharia
REFRESH-INTERVAL;VALUE=DURATION:PT1H
X-Robots-Tag:noindex
X-PUBLISHED-TTL:PT1H
BEGIN:VTIMEZONE
TZID:America/Sao_Paulo
BEGIN:STANDARD
TZOFFSETFROM:-0200
TZOFFSETTO:-0300
TZNAME:-03
DTSTART:20110220T020000
END:STANDARD
BEGIN:DAYLIGHT
TZOFFSETFROM:-0300
TZOFFSETTO:-0200
TZNAME:-02
DTSTART:20111016T030000
END:DAYLIGHT
BEGIN:STANDARD
TZOFFSETFROM:-0200
TZOFFSETTO:-0300
TZNAME:-03
DTSTART:20120226T020000
END:STANDARD
BEGIN:DAYLIGHT
TZOFFSETFROM:-0300
TZOFFSETTO:-0200
TZNAME:-02
DTSTART:20121021T030000
END:DAYLIGHT
BEGIN:STANDARD
TZOFFSETFROM:-0200
TZOFFSETTO:-0300
TZNAME:-03
DTSTART:20130217T020000
END:STANDARD
BEGIN:DAYLIGHT
TZOFFSETFROM:-0300
TZOFFSETTO:-0200
TZNAME:-02
DTSTART:20131020T030000
END:DAYLIGHT
END:VTIMEZONE
BEGIN:VEVENT
DTSTART;TZID=America/Sao_Paulo:20121126T180000
DTEND;TZID=America/Sao_Paulo:20121126T210000
DTSTAMP:20260425T143850
CREATED:20121105T235200Z
LAST-MODIFIED:20240712T151810Z
UID:25160-1353952800-1353963600@portalclubedeengenharia.org.br
SUMMARY:Escavações em maciços rochosos
DESCRIPTION:Dia 26/11/12 – 18h – 22º andar \nPalestra – Escavações em maciços rochosos: da caracterização e modelagem ao comportamento (casos históricos) \nPalestrante: Professor André Assis \nPromoção: DAT/DTG/ABMS-RJ \n 
URL:https://portalclubedeengenharia.org.br/evento/escavacoes-em-macicos-rochosos/
END:VEVENT
END:VCALENDAR