BEGIN:VCALENDAR
VERSION:2.0
PRODID:-//Clube de Engenharia - ECPv6.15.16//NONSGML v1.0//EN
CALSCALE:GREGORIAN
METHOD:PUBLISH
X-WR-CALNAME:Clube de Engenharia
X-ORIGINAL-URL:https://portalclubedeengenharia.org.br
X-WR-CALDESC:Eventos para Clube de Engenharia
REFRESH-INTERVAL;VALUE=DURATION:PT1H
X-Robots-Tag:noindex
X-PUBLISHED-TTL:PT1H
BEGIN:VTIMEZONE
TZID:America/Sao_Paulo
BEGIN:STANDARD
TZOFFSETFROM:-0200
TZOFFSETTO:-0300
TZNAME:-03
DTSTART:20140216T020000
END:STANDARD
BEGIN:DAYLIGHT
TZOFFSETFROM:-0300
TZOFFSETTO:-0200
TZNAME:-02
DTSTART:20141019T030000
END:DAYLIGHT
BEGIN:STANDARD
TZOFFSETFROM:-0200
TZOFFSETTO:-0300
TZNAME:-03
DTSTART:20150222T020000
END:STANDARD
BEGIN:DAYLIGHT
TZOFFSETFROM:-0300
TZOFFSETTO:-0200
TZNAME:-02
DTSTART:20151018T030000
END:DAYLIGHT
BEGIN:STANDARD
TZOFFSETFROM:-0200
TZOFFSETTO:-0300
TZNAME:-03
DTSTART:20160221T020000
END:STANDARD
BEGIN:DAYLIGHT
TZOFFSETFROM:-0300
TZOFFSETTO:-0200
TZNAME:-02
DTSTART:20161016T030000
END:DAYLIGHT
END:VTIMEZONE
BEGIN:VEVENT
DTSTART;TZID=America/Sao_Paulo:20151123T140000
DTEND;TZID=America/Sao_Paulo:20151126T173000
DTSTAMP:20260424T075701
CREATED:20151121T195800Z
LAST-MODIFIED:20240712T152100Z
UID:25740-1448287200-1448559000@portalclubedeengenharia.org.br
SUMMARY:Especialistas em drones oferecem cursos online
DESCRIPTION:Os quatro cursos online ministrados por especialistas em drones acontecerão entre os dias 23 e 26 de novembro.  \nDia 23/11 das 14h às 17h30 – Drones: Tipos\, Usos e Regulamentação. \nDia 24/11 das 14h às 17h30 – Drones na agricultura. \nDia 25/11 das 14h às 17h30 – Como pilotar Drones. \nDia 26/11 das 14h às 17h30 – Drones para mapeamento. \nClique aqui para mais informações e inscrições. 
URL:https://portalclubedeengenharia.org.br/evento/especialistas-em-drones-oferecem-cursos-online/
END:VEVENT
END:VCALENDAR