BEGIN:VCALENDAR
VERSION:2.0
PRODID:-//Clube de Engenharia - ECPv6.15.16//NONSGML v1.0//EN
CALSCALE:GREGORIAN
METHOD:PUBLISH
X-WR-CALNAME:Clube de Engenharia
X-ORIGINAL-URL:https://portalclubedeengenharia.org.br
X-WR-CALDESC:Eventos para Clube de Engenharia
REFRESH-INTERVAL;VALUE=DURATION:PT1H
X-Robots-Tag:noindex
X-PUBLISHED-TTL:PT1H
BEGIN:VTIMEZONE
TZID:America/Sao_Paulo
BEGIN:STANDARD
TZOFFSETFROM:-0300
TZOFFSETTO:-0300
TZNAME:-03
DTSTART:20200101T000000
END:STANDARD
END:VTIMEZONE
BEGIN:VEVENT
DTSTART;TZID=America/Sao_Paulo:20210811T200000
DTEND;TZID=America/Sao_Paulo:20210811T210000
DTSTAMP:20260422T193149
CREATED:20210809T194531Z
LAST-MODIFIED:20240712T152729Z
UID:27576-1628712000-1628715600@portalclubedeengenharia.org.br
SUMMARY:Esquenta EFEEng: Financiamento das universidades públicas
DESCRIPTION:O próximo Esquenta EFEEng contará com a palestra do pesquisador da COPPE/UFRJ e diretor do Clube de Engenharia\, Artur Obino\, que falará sobre o financiamento das universidades públicas brasileiras como alicerce da formação profissional e do desenvolvimento econômico\, social e sustentável do país. A Live\, que será transmitida através do Instagram da SAE\, acontece no dia 11 de agosto\, às 20h. \nEste será o último pré-encontro antes do 5º EFEEng. Todas as outras Lives estão disponíveis no Instagram da SAE: instagram.com/sae.clubedeengenharia \nO tema do aporte financeiro destinado às universidades públicas brasileiras é primordial para qualquer discussão sobre o desenvolvimento do país. É nas universidades onde se produz grande parte do conhecimento que resultará em políticas públicas\, novas tecnologias e outras ferramentas necessárias para o país. Esses recursos têm sido reduzidos ano após ano\, sobretudo após a aprovação do Teto de Gastos.
URL:https://portalclubedeengenharia.org.br/evento/esquenta-efeeng-financiamento-das-universidades-publicas/
CATEGORIES:Eventos,Eventos do Clube
ATTACH;FMTTYPE=image/png:https://portalclubedeengenharia.org.br/wp-content/uploads/2024/07/esquenta-ultimo.png
END:VEVENT
END:VCALENDAR