BEGIN:VCALENDAR
VERSION:2.0
PRODID:-//Clube de Engenharia - ECPv6.15.16//NONSGML v1.0//EN
CALSCALE:GREGORIAN
METHOD:PUBLISH
X-WR-CALNAME:Clube de Engenharia
X-ORIGINAL-URL:https://portalclubedeengenharia.org.br
X-WR-CALDESC:Eventos para Clube de Engenharia
REFRESH-INTERVAL;VALUE=DURATION:PT1H
X-Robots-Tag:noindex
X-PUBLISHED-TTL:PT1H
BEGIN:VTIMEZONE
TZID:America/Sao_Paulo
BEGIN:STANDARD
TZOFFSETFROM:-0200
TZOFFSETTO:-0300
TZNAME:-03
DTSTART:20170219T020000
END:STANDARD
BEGIN:DAYLIGHT
TZOFFSETFROM:-0300
TZOFFSETTO:-0200
TZNAME:-02
DTSTART:20171015T030000
END:DAYLIGHT
BEGIN:STANDARD
TZOFFSETFROM:-0200
TZOFFSETTO:-0300
TZNAME:-03
DTSTART:20180218T020000
END:STANDARD
BEGIN:DAYLIGHT
TZOFFSETFROM:-0300
TZOFFSETTO:-0200
TZNAME:-02
DTSTART:20181104T030000
END:DAYLIGHT
BEGIN:STANDARD
TZOFFSETFROM:-0200
TZOFFSETTO:-0300
TZNAME:-03
DTSTART:20190217T020000
END:STANDARD
END:VTIMEZONE
BEGIN:VEVENT
DTSTART;TZID=America/Sao_Paulo:20180417T170000
DTEND;TZID=America/Sao_Paulo:20180417T190000
DTSTAMP:20260421T094819
CREATED:20180414T013000Z
LAST-MODIFIED:20240712T152419Z
UID:26652-1523984400-1523991600@portalclubedeengenharia.org.br
SUMMARY:Estaleiro e Base Naval para Submarinos Nucleares - Projeto e Construção
DESCRIPTION:A Associação Brasileira de Mecânica dos Solos e Engenharia Geotécnica (ABMS) e a Pontíficia Universidade Católica (PUC-Rio) convidam os interessados para o seminário da próxima terça-feira\, 17 de abril\, às 17h. \nPalestrante:Almirante Alan Paes Leme ArthouEngenheiro Naval\, MSc\, Membro Titular da Academia Nacional de Engenharia (ANE). \nResumo:Evolução histórica\, desafios e novas tecnologias da obra marítima em Itaguaí\, para apoio a submarinos nucleares. Arthou foi o gerente responsável pelo projeto e primeira fase da construção. \nPromoção:ABMS-RJANEHueskerMaccaferri \nServiço:Dia 17/04\, terça-feira\, às 17hSala 310-L\, PUC-Rio
URL:https://portalclubedeengenharia.org.br/evento/estaleiro-e-base-naval-para-submarinos-nucleares-projeto-e-construcao/
CATEGORIES:Eventos
ATTACH;FMTTYPE=image/jpeg:https://portalclubedeengenharia.org.br/wp-content/uploads/2024/07/1523659005.jpg
END:VEVENT
END:VCALENDAR