BEGIN:VCALENDAR
VERSION:2.0
PRODID:-//Clube de Engenharia - ECPv6.15.16//NONSGML v1.0//EN
CALSCALE:GREGORIAN
METHOD:PUBLISH
X-WR-CALNAME:Clube de Engenharia
X-ORIGINAL-URL:https://portalclubedeengenharia.org.br
X-WR-CALDESC:Eventos para Clube de Engenharia
REFRESH-INTERVAL;VALUE=DURATION:PT1H
X-Robots-Tag:noindex
X-PUBLISHED-TTL:PT1H
BEGIN:VTIMEZONE
TZID:America/Sao_Paulo
BEGIN:STANDARD
TZOFFSETFROM:-0200
TZOFFSETTO:-0300
TZNAME:-03
DTSTART:20160221T020000
END:STANDARD
BEGIN:DAYLIGHT
TZOFFSETFROM:-0300
TZOFFSETTO:-0200
TZNAME:-02
DTSTART:20161016T030000
END:DAYLIGHT
BEGIN:STANDARD
TZOFFSETFROM:-0200
TZOFFSETTO:-0300
TZNAME:-03
DTSTART:20170219T020000
END:STANDARD
BEGIN:DAYLIGHT
TZOFFSETFROM:-0300
TZOFFSETTO:-0200
TZNAME:-02
DTSTART:20171015T030000
END:DAYLIGHT
BEGIN:STANDARD
TZOFFSETFROM:-0200
TZOFFSETTO:-0300
TZNAME:-03
DTSTART:20180218T020000
END:STANDARD
BEGIN:DAYLIGHT
TZOFFSETFROM:-0300
TZOFFSETTO:-0200
TZNAME:-02
DTSTART:20181104T030000
END:DAYLIGHT
END:VTIMEZONE
BEGIN:VEVENT
DTSTART;TZID=America/Sao_Paulo:20170313T170000
DTEND;TZID=America/Sao_Paulo:20170324T173000
DTSTAMP:20260422T022644
CREATED:20170307T001000Z
LAST-MODIFIED:20240712T152221Z
UID:26085-1489424400-1490376600@portalclubedeengenharia.org.br
SUMMARY:Exposição de Pintura: Cubo Mágico X Calidoscópio
DESCRIPTION:O Museu do Clube de Engenharia recebe uma nova exposição\, a primeira do ano\, no mês de março\, com obras dos pintores Izabel Pecorone e Marx César Siqueira Evangelista. A vernissage de abertura da exposição “Cubo Mágico x Calidoscópio”\, com curadoria de José Luiz Carlomagno\, acontece no dia 13 de março (segunda-feira) às 17h. A exposição estará aberta ao público no 22º andar do Clube de Engenharia até o dia 24\, sempre das 12h às 17h. \nCalidoscópio é a exposição de Izabel Pecorone\, artista plástica atuante desde 1999\, formada pela Escola de Artes Visuais do Parque Lage. A obra é composta de diferentes formas de mandalas.  \nCubo Mágico é a compilação de telas de Marx César Siqueira Evangelista\, historiador\, também frequentador da Escola de Artes Visuais do Parque Lage. Seus quadros também trazem cores vivas em formas variadas. \nEndereço:Clube de EngenhariaGaleria de Arte do Museu\, 22º andarAvenida Rio Branco\, 124\, Centro\, Rio de Janeiro
URL:https://portalclubedeengenharia.org.br/evento/exposicao-de-pintura-cubo-magico-x-calidoscopio/
ATTACH;FMTTYPE=image/jpeg:https://portalclubedeengenharia.org.br/wp-content/uploads/2024/07/1488835063.jpg
END:VEVENT
END:VCALENDAR