BEGIN:VCALENDAR
VERSION:2.0
PRODID:-//Clube de Engenharia - ECPv6.15.16//NONSGML v1.0//EN
CALSCALE:GREGORIAN
METHOD:PUBLISH
X-WR-CALNAME:Clube de Engenharia
X-ORIGINAL-URL:https://portalclubedeengenharia.org.br
X-WR-CALDESC:Eventos para Clube de Engenharia
REFRESH-INTERVAL;VALUE=DURATION:PT1H
X-Robots-Tag:noindex
X-PUBLISHED-TTL:PT1H
BEGIN:VTIMEZONE
TZID:America/Sao_Paulo
BEGIN:STANDARD
TZOFFSETFROM:-0300
TZOFFSETTO:-0300
TZNAME:-03
DTSTART:20250101T000000
END:STANDARD
END:VTIMEZONE
BEGIN:VEVENT
DTSTART;TZID=America/Sao_Paulo:20260430T160000
DTEND;TZID=America/Sao_Paulo:20260430T180000
DTSTAMP:20260424T055933
CREATED:20260417T205436Z
LAST-MODIFIED:20260422T152239Z
UID:38707-1777564800-1777572000@portalclubedeengenharia.org.br
SUMMARY:Ferrovias Bioceânicas: O Brasil nos Trilhos do Mundo
DESCRIPTION:O engenheiro eletricista Afonso Carneiro Filho apresentará\, em 30 de abril de 2026\, às 16h\, no Clube de Engenharia do Brasil (CEB)\, a palestra “Ferrovias Bioceânicas – O Brasil nos Trilhos do Mundo”. A exposição discutirá projetos das Ferrovias Bioceânicas\, a retomada dos trens de passageiros\, a integração continental e temas ligados à sustentabilidade e soberania. O encontro ocorrerá de forma híbrida\, presencial no auditório do 22º andar do CEB e online na plataforma\, com inscrição pela plataforma Sympla. Marcará também o Dia do Ferroviário\, com homenagem e entrega de certificado a profissionais do setor. \nINSCREVA-SE JÁ! \nCarneiro Filho tem cerca de 40 anos de atuação no segmento metroferroviário. Sua trajetória inclui atividades na RFFSA e na CBTU entre 1984 e 2023\, participação nas implantações dos metrôs de Belo Horizonte e Brasília\, desenvolvimento de oficinas ferroviárias\, especificação de equipamentos e comissionamento de trens da série 900. \nNo Ministério dos Transportes\, entre 2003 e 2012\, coordenou ações de retomada dos trens de passageiros e analisou projetos como o TAV Rio–São Paulo. Atuou em conselhos da Valec (Infra S.A.) e da Companhia Docas do Pará. É formado em engenharia elétrica pela UCP\, com especializações em transporte e logística no Brasil e na Europa\, além de experiências técnicas na Europa e na Ásia. Recebeu a Medalha do Mérito Mauá e outras distinções institucionais. \nO objetivo do evento é atualizar o debate sobre a importância das Ferrovias Bioceânicas e apresentar dados que fundamentam o empreendimento\, com base na experiência acumulada ao longo de décadas no setor ferroviário. \nA atividade contará com coordenação de Ibá dos Santos Silva e Itamar Marques\, presença das convidadas DETI e DPG\, e apoio das divisões DUR e DEA. Participam também entidades como Senge\, FMU\, FAM-Rio\, Aenfer\, Crea-RJ\, Seaerj\, CCSEAERJ\, Fisenge e Assintec. \nO evento também poderá ser assistido pelo YouTube:
URL:https://portalclubedeengenharia.org.br/evento/ferrovias-bioceanicas-o-brasil-nos-trilhos-do-mundo/
LOCATION:Clube de Engenharia\, Avenida Rio Branco\, 124\, Rio de Janeiro\, Rio de Janeiro\, 20040001
CATEGORIES:Eventos
ATTACH;FMTTYPE=image/jpeg:https://portalclubedeengenharia.org.br/wp-content/uploads/2026/04/ferrovias-bioceanicas-o-brasil-nos-trilhos-do-mundo-ferrovias-bioceanicas-o-brasil-nos-trilhos-do-mundo.jpg
ORGANIZER;CN="Clube de Engenharia":MAILTO:atendimento@clubedeengenharia.org.br
END:VEVENT
END:VCALENDAR