BEGIN:VCALENDAR
VERSION:2.0
PRODID:-//Clube de Engenharia - ECPv6.15.16//NONSGML v1.0//EN
CALSCALE:GREGORIAN
METHOD:PUBLISH
X-WR-CALNAME:Clube de Engenharia
X-ORIGINAL-URL:https://portalclubedeengenharia.org.br
X-WR-CALDESC:Eventos para Clube de Engenharia
REFRESH-INTERVAL;VALUE=DURATION:PT1H
X-Robots-Tag:noindex
X-PUBLISHED-TTL:PT1H
BEGIN:VTIMEZONE
TZID:America/Sao_Paulo
BEGIN:STANDARD
TZOFFSETFROM:-0200
TZOFFSETTO:-0300
TZNAME:-03
DTSTART:20150222T020000
END:STANDARD
BEGIN:DAYLIGHT
TZOFFSETFROM:-0300
TZOFFSETTO:-0200
TZNAME:-02
DTSTART:20151018T030000
END:DAYLIGHT
BEGIN:STANDARD
TZOFFSETFROM:-0200
TZOFFSETTO:-0300
TZNAME:-03
DTSTART:20160221T020000
END:STANDARD
BEGIN:DAYLIGHT
TZOFFSETFROM:-0300
TZOFFSETTO:-0200
TZNAME:-02
DTSTART:20161016T030000
END:DAYLIGHT
BEGIN:STANDARD
TZOFFSETFROM:-0200
TZOFFSETTO:-0300
TZNAME:-03
DTSTART:20170219T020000
END:STANDARD
BEGIN:DAYLIGHT
TZOFFSETFROM:-0300
TZOFFSETTO:-0200
TZNAME:-02
DTSTART:20171015T030000
END:DAYLIGHT
END:VTIMEZONE
BEGIN:VEVENT
DTSTART;TZID=America/Sao_Paulo:20160804T173000
DTEND;TZID=America/Sao_Paulo:20160804T193000
DTSTAMP:20260425T162128
CREATED:20160713T013900Z
LAST-MODIFIED:20240712T152139Z
UID:25913-1470331800-1470339000@portalclubedeengenharia.org.br
SUMMARY:Fundações: relação entre projeto\, execuções e controles
DESCRIPTION:Palestrante:Fernando Danziger – engenheiro e professor da COPPE/UFRJ \nPromoção:Diretoria de Atividades Técnicas – DATDivisão Técnica de Geotecnia (DTG) \nServiço:Dia 04/08 às 17h3022º andar do Clube de Engenharia Av. Rio Branco\, 124 – Metrô Estação Carioca
URL:https://portalclubedeengenharia.org.br/evento/fundacoes-relacao-entre-projeto-execucoes-e-controles/
END:VEVENT
END:VCALENDAR