BEGIN:VCALENDAR
VERSION:2.0
PRODID:-//Clube de Engenharia - ECPv6.15.16//NONSGML v1.0//EN
CALSCALE:GREGORIAN
METHOD:PUBLISH
X-WR-CALNAME:Clube de Engenharia
X-ORIGINAL-URL:https://portalclubedeengenharia.org.br
X-WR-CALDESC:Eventos para Clube de Engenharia
REFRESH-INTERVAL;VALUE=DURATION:PT1H
X-Robots-Tag:noindex
X-PUBLISHED-TTL:PT1H
BEGIN:VTIMEZONE
TZID:America/Sao_Paulo
BEGIN:STANDARD
TZOFFSETFROM:-0200
TZOFFSETTO:-0300
TZNAME:-03
DTSTART:20130217T020000
END:STANDARD
BEGIN:DAYLIGHT
TZOFFSETFROM:-0300
TZOFFSETTO:-0200
TZNAME:-02
DTSTART:20131020T030000
END:DAYLIGHT
BEGIN:STANDARD
TZOFFSETFROM:-0200
TZOFFSETTO:-0300
TZNAME:-03
DTSTART:20140216T020000
END:STANDARD
BEGIN:DAYLIGHT
TZOFFSETFROM:-0300
TZOFFSETTO:-0200
TZNAME:-02
DTSTART:20141019T030000
END:DAYLIGHT
BEGIN:STANDARD
TZOFFSETFROM:-0200
TZOFFSETTO:-0300
TZNAME:-03
DTSTART:20150222T020000
END:STANDARD
BEGIN:DAYLIGHT
TZOFFSETFROM:-0300
TZOFFSETTO:-0200
TZNAME:-02
DTSTART:20151018T030000
END:DAYLIGHT
END:VTIMEZONE
BEGIN:VEVENT
DTSTART;TZID=America/Sao_Paulo:20140611T183000
DTEND;TZID=America/Sao_Paulo:20140611T203000
DTSTAMP:20260421T095557
CREATED:20140526T203700Z
LAST-MODIFIED:20240712T151934Z
UID:25432-1402511400-1402518600@portalclubedeengenharia.org.br
SUMMARY:Gerenciamento de projetos na construção civil
DESCRIPTION:Dia 11/06/14 – 18h30 às 20h30 – 22º andar \nPalestra: Gerenciamento de projetos na construção civil \nPalestrantes: \nCarlos Magno da Silva Xavier – Professor; \nLuiz Fernando da Silva Xavier – Professor; \nMaury Melo – Engenheiro Civil \nPromoção: DAT/DCO \n 
URL:https://portalclubedeengenharia.org.br/evento/gerenciamento-de-projetos-na-construcao-civil/
END:VEVENT
END:VCALENDAR