BEGIN:VCALENDAR
VERSION:2.0
PRODID:-//Clube de Engenharia - ECPv6.15.16//NONSGML v1.0//EN
CALSCALE:GREGORIAN
METHOD:PUBLISH
X-WR-CALNAME:Clube de Engenharia
X-ORIGINAL-URL:https://portalclubedeengenharia.org.br
X-WR-CALDESC:Eventos para Clube de Engenharia
REFRESH-INTERVAL;VALUE=DURATION:PT1H
X-Robots-Tag:noindex
X-PUBLISHED-TTL:PT1H
BEGIN:VTIMEZONE
TZID:America/Sao_Paulo
BEGIN:STANDARD
TZOFFSETFROM:-0200
TZOFFSETTO:-0300
TZNAME:-03
DTSTART:20150222T020000
END:STANDARD
BEGIN:DAYLIGHT
TZOFFSETFROM:-0300
TZOFFSETTO:-0200
TZNAME:-02
DTSTART:20151018T030000
END:DAYLIGHT
BEGIN:STANDARD
TZOFFSETFROM:-0200
TZOFFSETTO:-0300
TZNAME:-03
DTSTART:20160221T020000
END:STANDARD
BEGIN:DAYLIGHT
TZOFFSETFROM:-0300
TZOFFSETTO:-0200
TZNAME:-02
DTSTART:20161016T030000
END:DAYLIGHT
BEGIN:STANDARD
TZOFFSETFROM:-0200
TZOFFSETTO:-0300
TZNAME:-03
DTSTART:20170219T020000
END:STANDARD
BEGIN:DAYLIGHT
TZOFFSETFROM:-0300
TZOFFSETTO:-0200
TZNAME:-02
DTSTART:20171015T030000
END:DAYLIGHT
END:VTIMEZONE
BEGIN:VEVENT
DTSTART;TZID=America/Sao_Paulo:20161125T210000
DTEND;TZID=America/Sao_Paulo:20161125T210000
DTSTAMP:20260425T233107
CREATED:20161121T190700Z
LAST-MODIFIED:20240712T152208Z
UID:26022-1480107600-1480107600@portalclubedeengenharia.org.br
SUMMARY:II Encontro Anual da Academia Nacional de Engenharia (EAANE  II)
DESCRIPTION:Energia e tecnologia em debate \n A segunda edição do Encontro Anual da ANE apresentará informações técnicas sobre as mudanças no setor de petróleo e gás\, as perspectivas para o armazenamento de energia\, além de apontar os caminhos da inteligência computacional e da segurança cibernética em uma sociedade cada vez mais digital \nEnergia e tecnologia serão os temas dos debates do II Encontro Anual da Academia Nacional de Engenharia (EAANE-II)\, que será realizado no dia 25 de novembro\, no Clube de Engenharia. Nesta edição\, o evento terá dois painéis que trarão informações técnicas sobre os assuntos\, com o foco em petróleo\, armazenamento de energia\, inteligência artificial e segurança cibernética. \nA abertura será feita pelo presidente da ANE\, o engenheiro Paulo Augusto Vivacqua. “O objetivo é discutir questões relevantes para o desenvolvimento industrial do país. Apontar caminhos\, mostrar que temos capacidade técnica para alavancar o nosso crescimento. A ideia é contribuir com o debate sobre questões que representam um desafio para a engenharia e para o desenvolvimento da sociedade”\, afirma o Presidente. \nNo painel energia\, a primeira mesa vai debater as possibilidades brasileiras a partir da produção de petróleo. Os Acadêmicos Marcelo Gattass\, diretor do Instituto Tecgraf/PUC-Rio\, e Guilherme Estrella\, ex-diretor de E&P da Petrobras\, vão abordar o impacto das mudanças do setor de petróleo e gás no desenvolvimento técnico-científico brasileiro e a importância das riquezas naturais para o país. \nA segunda mesa será voltada para o armazenamento de energia. O Acadêmico Eduardo Serra\, da EP+PS Consultoria\, e o engenheiro Carlos Augusto Leite Brandão\, presidente da Associação Brasileira de Armazenamento e Qualidade de Energia (ABAQUE)\, vão trazer o cenário da atual situação do armazenamento de energia\, as perspectiva para o setor nos próximos anos e apresentar um estudo do Comitê de Energia sobre o tema. \nNa parte da tarde\, o painel tecnologia terá como temática inteligência computacional e segurança cibernética. Para falar sobre o assunto foram convidados os especialistas da COPPE/UFRJ\, o Acadêmico Luiz Calôba e o professor José Manuel de Seixas\, que abordarão o tema a partir das técnicas iniciais e recentes. \nEm seguida\, haverá o painel “Segurança Cibernética” onde os desafios de uma era cada vez mais digital serão debatidos sobre diversos ângulos. Participarão do debate Roberto Gallo\, CEO\, Kryptus EED S/A e Coordenador Geral do Comitê de empresas de Informática e Cibernética (ABIMDE); Cristine Hoepers\, gerente geral de Centro de Estudos\, Resposta e Tratamento de Incidentes de Segurança no Brasil (CERT.br); Vanessa Fonseca\, diretora da Unidade de Combate a Crimes Cibernéticos\, Microsoft Brasil. Está prevista ainda a participação\, via videoconferência\, de James F. Kurose\, diretor para as áreas de Computação\, Ciência da  Informação e Engenharia (CISE)\, National Science Foundation – NSF\, USA. \nServiço:Dia 25/11 às 09h20º andar do Clube de Engenharia Av. Rio Branco\, 124 – Metrô Estação CariocaInformações: imprensa@anebrasil.org.br \nProgramação: \n8h30Recepção aos participantes \n9h00Abertura – Eng. Paulo Augusto Vivacqua – Presidente da ANE \n9h30“O Petróleo e o Desenvolvimento Tecnológico Brasileiro” – Eng. Marcello Gattass –  Membro Titular da ANE\, Diretor do Instituto Tecgraf/PUC \n10h00“O Pré-sal e o Desenvolvimento Industrial Brasileiro” – Geólogo Guilherme Estrella –  Membro Titular da ANE\, Ex-diretor de E&P da Petrobrás \n10h30Debate com a plateia \n10h40Intervalo \n11h00Apresentação do Comitê de Energia da ANE – Eng. Jerzy Lepecki –  Membro Titular da ANE\, presidente do Comitê de Energia da Academia \n11h10“Armazenamento de Energia Situação Atual\, Perspectivas e Recomendações” –  Eng. Eduardo Serra – Membro Titular da ANE\, Sócio Gerente da ES+PS Consultoria \n11h40“Oportunidades e Desenvolvimento de Tecnologias para o Sistema Elétrico Brasileiro” – Carlos Augusto Brandão\, Presidente da Associação Brasileira de Armazenamento e Qualidade de Energia (Abaque)  \n12h10Debate com a plateia \n12h30INTERVALO PARA O ALMOÇO \n14h00“Inteligência Computacional: Técnicas Iniciais” – Eng. Luiz Calôba – Membro Titular da ANE\, Professor do Programa de Engenharia Elétrica da Coppe/UFRJ\, membro titular da Academia Brasileira de Ciências (ABC) \n14h40“Inteligência Computacional: Técnicas Recentes” – José Manoel de Seixas – Professor da Coppe/UFRJ \n15h10Debate com a plateia \n15h30Intervalo \n16h00“Segurança Cibernética durante o Ciclo da Vida de Projetos de Engenharia” – Roberto Gallo – CEO\, Kryptus EED S/A e Coordenador Geral do Comitê de empresas de Informática e Cibernética (ABIMDE) \n16h25”Segurança na Sociedade Digital: Novos Desafios\, Velhos Problemas” – Cristine Hoepers – Gerente Geral\, Centro de Estudos\, Resposta e Tratamento de Incidentes de Segurança no Brasil (CERT.br) \n16h50Vanessa Fonseca – Diretora da Unidade de Combate a Crimes Cibernéticos\, Microsoft Brasil  \n17h15James F. Kurose – Diretor para as áreas de Computação\, Ciência da Informação e Engenharia (CISE)\, National Science Foundation – NSF\, USA. (via videoconferência – a confirmar) \n17h30Debate com a plateia \n18h00Encerramento
URL:https://portalclubedeengenharia.org.br/evento/ii-encontro-anual-da-academia-nacional-de-engenharia-eaane-%c2%96-ii/
ATTACH;FMTTYPE=image/jpeg:https://portalclubedeengenharia.org.br/wp-content/uploads/2024/07/1479748707.jpg
END:VEVENT
END:VCALENDAR